BEGIN:VCALENDAR
VERSION:2.0
PRODID:-//ChamberMaster//Event Calendar 2.0//EN
METHOD:PUBLISH
X-PUBLISHED-TTL:P3D
REFRESH-INTERVAL:P3D
CALSCALE:GREGORIAN
BEGIN:VEVENT
DTSTART:20190822T190000Z
DTEND:20190822T210000Z
X-MICROSOFT-CDO-ALLDAYEVENT:FALSE
SUMMARY:GROW Connects: Human Resources 101
DESCRIPTION:Your team is paramount to the success of your small business! This workshop will cover recruiting and hiring\, managing salaries and benefits\, evaluating employee performance\, and communicating with staff members. Come prepared with questions to ask and you will leave with the confidence to build and lead a staff that can bring your business to the next level!
X-ALT-DESC;FMTTYPE=text/html:Your team is paramount to the success of your small business! This workshop will cover recruiting and hiring\, managing salaries and benefits\, evaluating employee performance\, and communicating with staff members. Come prepared with questions to ask and you will leave with the confidence to build and lead a staff that can bring your business to the next level!
LOCATION:
UID:e.2018.1292
SEQUENCE:3
DTSTAMP:20260419T225417Z
URL:https://members.westmihcc.org/events/details/grow-connects-human-resources-101-1292
END:VEVENT

END:VCALENDAR
