BEGIN:VCALENDAR
VERSION:2.0
PRODID:-//ChamberMaster//Event Calendar 2.0//EN
METHOD:PUBLISH
X-PUBLISHED-TTL:P3D
REFRESH-INTERVAL:P3D
CALSCALE:GREGORIAN
BEGIN:VEVENT
DTSTART:20190821T190000Z
DTEND:20190821T210000Z
X-MICROSOFT-CDO-ALLDAYEVENT:FALSE
SUMMARY:GROW Connects: Human Resources 101 (Muskegon)
DESCRIPTION:Your team is paramount to the success of your small business! This workshop will cover recruiting and hiring\, managing salaries and benefits\, evaluating employee performance\, and communicating with staff members. Come prepared with questions to ask and you will leave with the confidence to build and lead a staff that can bring your business to the next level!
X-ALT-DESC;FMTTYPE=text/html:Your team is paramount to the success of your small business! This workshop will cover recruiting and hiring\, managing salaries and benefits\, evaluating employee performance\, and communicating with staff members. Come prepared with questions to ask and you will leave with the confidence to build and lead a staff that can bring your business to the next level!
LOCATION:Mahali
UID:e.2018.1291
SEQUENCE:3
DTSTAMP:20260419T225718Z
URL:https://members.westmihcc.org/events/details/grow-connects-human-resources-101-muskegon-1291
END:VEVENT

END:VCALENDAR
