BEGIN:VCALENDAR
VERSION:2.0
PRODID:-//ChamberMaster//Event Calendar 2.0//EN
METHOD:PUBLISH
X-PUBLISHED-TTL:P3D
REFRESH-INTERVAL:P3D
CALSCALE:GREGORIAN
BEGIN:VEVENT
DTSTART:20190425T190000Z
DTEND:20190425T210000Z
X-MICROSOFT-CDO-ALLDAYEVENT:FALSE
SUMMARY:GROW Connects: Keys to a Successful Expo
DESCRIPTION:Trade shows and Expos can be the biggest marketing and sales expense for your company. Learn how to maximize your investment with tips and tricks for having the best show experience.
X-ALT-DESC;FMTTYPE=text/html:Trade shows and Expos can be the biggest marketing and sales expense for your company. Learn how to maximize your investment with tips and tricks for having the best show experience.
LOCATION:
UID:e.2018.1142
SEQUENCE:3
DTSTAMP:20260420T050547Z
URL:https://members.westmihcc.org/events/details/grow-connects-keys-to-a-successful-expo-1142
END:VEVENT

END:VCALENDAR
