BEGIN:VCALENDAR
VERSION:2.0
PRODID:-//ChamberMaster//Event Calendar 2.0//EN
METHOD:PUBLISH
X-PUBLISHED-TTL:P3D
REFRESH-INTERVAL:P3D
CALSCALE:GREGORIAN
BEGIN:VEVENT
DTSTART:20170323T220000Z
DTEND:20170324T010000Z
X-MICROSOFT-CDO-ALLDAYEVENT:FALSE
SUMMARY:GROW Connects: Leading Your Business in Confidence
DESCRIPTION:If insecurities and feelings of inadequacy interfere with you successfully running your business\; this is the workshop for you! In this workshop you will learn how to: -Confirm your WHY -Identify your strengths and build them up -Strengthen your Core Self/Mental Stamina -Ask for help through mentorship
X-ALT-DESC;FMTTYPE=text/html:If insecurities and feelings of inadequacy interfere with you successfully running your business\; this is the workshop for you! In this workshop you will learn how to: -Confirm your WHY -Identify your strengths and build them up -Strengthen your Core Self/Mental Stamina -Ask for help through mentorship
LOCATION:Grand Rapids Opportunities for Women (GROW)
UID:e.2018.548
SEQUENCE:3
DTSTAMP:20260425T144238Z
URL:https://members.westmihcc.org/events/details/grow-connects-leading-your-business-in-confidence-548
END:VEVENT

END:VCALENDAR
