BEGIN:VCALENDAR
VERSION:2.0
PRODID:-//ChamberMaster//Event Calendar 2.0//EN
METHOD:PUBLISH
X-PUBLISHED-TTL:P3D
REFRESH-INTERVAL:P3D
CALSCALE:GREGORIAN
BEGIN:VEVENT
DTSTART:20190515T190000Z
DTEND:20190515T210000Z
X-MICROSOFT-CDO-ALLDAYEVENT:FALSE
SUMMARY:GROW Connects Muskegon: How To Energize Your Business with Rich Lohman
DESCRIPTION:Rich's presentation\, How to Energize (or Re-Energize) Your Business\, will leave you inspired and excited to reconnect with the reasons why you started\, or want to start\, your business in the first place. His words will help you find that passion within and identify key areas you need to focus on first to help your business succeed.
X-ALT-DESC;FMTTYPE=text/html:Rich&rsquo\;s presentation\, How to Energize (or Re-Energize) Your Business\, will leave you inspired and excited to reconnect with the reasons why you started\, or want to start\, your business in the first place. His words will help you find that passion within and identify key areas you need to focus on first to help your business succeed.
LOCATION:Muskegon Innovation Hub
UID:e.2018.1181
SEQUENCE:3
DTSTAMP:20260420T033453Z
URL:https://members.westmihcc.org/events/details/grow-connects-muskegon-how-to-energize-your-business-with-rich-lohman-1181
END:VEVENT

END:VCALENDAR
