BEGIN:VCALENDAR
VERSION:2.0
PRODID:-//ChamberMaster//Event Calendar 2.0//EN
METHOD:PUBLISH
X-PUBLISHED-TTL:P3D
REFRESH-INTERVAL:P3D
CALSCALE:GREGORIAN
BEGIN:VEVENT
DTSTART:20190918T180000Z
DTEND:20190918T210000Z
X-MICROSOFT-CDO-ALLDAYEVENT:FALSE
SUMMARY:GROW Connects Muskegon: Small Business in the Cloud
DESCRIPTION:Join Corey Swiftney\, Certified Professional Bookkeeper at BeanLogix\, and get ready to learn all about how the cloud can help efficiency and costs in your business. The cloud can help small businesses compete with larger businesses as well as increase agility and flexibility. Come prepared with questions for Corey and leave with a better understanding of how the cloud can help your business thrive.
X-ALT-DESC;FMTTYPE=text/html:Join Corey Swiftney\, Certified Professional Bookkeeper at BeanLogix\, and get ready to learn all about how the cloud can help efficiency and costs in your business. The cloud can help small businesses compete with larger businesses as well as increase agility and flexibility. Come prepared with questions for Corey and leave with a better understanding of how the cloud can help your business thrive.
LOCATION:Muskegon Innovation Hub
UID:e.2018.1307
SEQUENCE:3
DTSTAMP:20260419T230117Z
URL:https://members.westmihcc.org/events/details/grow-connects-muskegon-small-business-in-the-cloud-1307
END:VEVENT

END:VCALENDAR
