BEGIN:VCALENDAR
VERSION:2.0
PRODID:-//ChamberMaster//Event Calendar 2.0//EN
METHOD:PUBLISH
X-PUBLISHED-TTL:P3D
REFRESH-INTERVAL:P3D
CALSCALE:GREGORIAN
BEGIN:VEVENT
DTSTART:20190417T130000Z
DTEND:20190417T150000Z
X-MICROSOFT-CDO-ALLDAYEVENT:FALSE
SUMMARY:GROW Connects Muskegon: Trademark\, Copyright\, and Intellectual Property
DESCRIPTION:What is the difference between patents\, trademarks and copyrights? What type of technology is patentable? When can I use the ' ' symbol? What does "patent pending" actually mean?
X-ALT-DESC;FMTTYPE=text/html:What is the difference between patents\, trademarks and copyrights? What type of technology is patentable? When can I use the &#39\;&reg\;&#39\; symbol? What does &quot\;patent pending&quot\; actually mean?
LOCATION:Muskegon Innovation Hub
UID:e.2018.1136
SEQUENCE:3
DTSTAMP:20260420T050744Z
URL:https://members.westmihcc.org/events/details/grow-connects-muskegon-trademark-copyright-and-intellectual-property-1136
END:VEVENT

END:VCALENDAR
