BEGIN:VCALENDAR
VERSION:2.0
PRODID:-//ChamberMaster//Event Calendar 2.0//EN
METHOD:PUBLISH
X-PUBLISHED-TTL:P3D
REFRESH-INTERVAL:P3D
CALSCALE:GREGORIAN
BEGIN:VEVENT
DTSTART:20190725T190000Z
DTEND:20190725T210000Z
X-MICROSOFT-CDO-ALLDAYEVENT:FALSE
SUMMARY:GROW Connects: Pitch Perfection
DESCRIPTION:The Muskegon Innovation Hub\, in collaboration with GROW\, has created a special edition of its Pitch Perfection workshop for participants in the Start Garden's 100 Ideas Demo Day. Pitch Perfection is a unique workshop where participants practice their pitch in front of a panel of real judges\, and then receive detailed feedback on the pitch and the business.
X-ALT-DESC;FMTTYPE=text/html:The Muskegon Innovation Hub\, in collaboration with GROW\, has created a special edition of its Pitch Perfection workshop for participants in the Start Garden&#39\;s 100 Ideas Demo Day. Pitch Perfection is a unique workshop where participants practice their pitch in front of a panel of real judges\, and then receive detailed feedback on the pitch and the business.
LOCATION:GROW
UID:e.2018.1257
SEQUENCE:3
DTSTAMP:20260420T022220Z
URL:https://members.westmihcc.org/events/details/grow-connects-pitch-perfection-07-25-2019-1257
END:VEVENT

END:VCALENDAR
