BEGIN:VCALENDAR
VERSION:2.0
PRODID:-//ChamberMaster//Event Calendar 2.0//EN
METHOD:PUBLISH
X-PUBLISHED-TTL:P3D
REFRESH-INTERVAL:P3D
CALSCALE:GREGORIAN
BEGIN:VEVENT
DTSTART:20181017T180000Z
DTEND:20181017T210000Z
X-MICROSOFT-CDO-ALLDAYEVENT:FALSE
SUMMARY:GROW Connects: Planning for a Healthy Business - Muskegon
DESCRIPTION:Planning for a Healthy Business is a highly interactive learning experience that encourages participants to focus on planning as an essential competency of business ownership. No matter where you are in the development of your business\, this class encourages you to ask and answer key questions that help ensure you create and manage a healthy business that is successful in a long-term basis.
X-ALT-DESC;FMTTYPE=text/html:Planning for a Healthy Business is a highly interactive learning experience that encourages participants to focus on planning as an essential competency of business ownership. No matter where you are in the development of your business\, this class encourages you to ask and answer key questions that help ensure you create and manage a healthy business that is successful in a long-term basis.
LOCATION:
UID:e.2018.981
SEQUENCE:3
DTSTAMP:20260422T122819Z
URL:https://members.westmihcc.org/events/details/grow-connects-planning-for-a-healthy-business-muskegon-981
END:VEVENT

END:VCALENDAR
