BEGIN:VCALENDAR
VERSION:2.0
PRODID:-//ChamberMaster//Event Calendar 2.0//EN
METHOD:PUBLISH
X-PUBLISHED-TTL:P3D
REFRESH-INTERVAL:P3D
CALSCALE:GREGORIAN
BEGIN:VEVENT
DTSTART:20170824T130000Z
DTEND:20170824T150000Z
X-MICROSOFT-CDO-ALLDAYEVENT:FALSE
SUMMARY:GROW Connects: Protecting Your Brand
DESCRIPTION:Your brand is a valuable asset that uniquely represents your company and drives customers to your door. But do you know if your brand really belongs to you? Or how to protect it? Avoid costly disputes or rebranding by definitely answering these questions. Learn about trademark\, service mark\, copyright\, and website terms of use. Discover social media brand guidelines. And get protective statements for your website and branding materials.
X-ALT-DESC;FMTTYPE=text/html:Your brand is a valuable asset that uniquely represents your company and drives customers to your door. But do you know if your brand really belongs to you? Or how to protect it? Avoid costly disputes or rebranding by definitely answering these questions. Learn about trademark\, service mark\, copyright\, and website terms of use. Discover social media brand guidelines. And get protective statements for your website and branding materials.
LOCATION:
UID:e.2018.638
SEQUENCE:3
DTSTAMP:20260423T075801Z
URL:https://members.westmihcc.org/events/details/grow-connects-protecting-your-brand-638
END:VEVENT

END:VCALENDAR
