BEGIN:VCALENDAR
VERSION:2.0
PRODID:-//ChamberMaster//Event Calendar 2.0//EN
METHOD:PUBLISH
X-PUBLISHED-TTL:P3D
REFRESH-INTERVAL:P3D
CALSCALE:GREGORIAN
BEGIN:VEVENT
DTSTART:20181114T200000Z
DTEND:20181114T220000Z
X-MICROSOFT-CDO-ALLDAYEVENT:FALSE
SUMMARY:GROW Connects: Starring YOU...How to Talk to the Media - Muskegon
DESCRIPTION:Join Shelley Irwin\, WGVU Morning Show Host/Producer\, and get ready to put your best foot forward when it's lights\, camera\, action! Use the media to your advantage and you WILL be the star of your product. Take home the useful tips and begin the ACTION asap!
X-ALT-DESC;FMTTYPE=text/html:Join Shelley Irwin\, WGVU Morning Show Host/Producer\, and get ready to put your best foot forward when it&#39\;s lights\, camera\, action! Use the media to your advantage and you WILL be the star of your product. Take home the useful tips and begin the ACTION asap!
LOCATION:Muskegon Innovation Hub
UID:e.2018.980
SEQUENCE:3
DTSTAMP:20260422T111237Z
URL:https://members.westmihcc.org/events/details/grow-connects-starring-you-how-to-talk-to-the-media-muskegon-980
END:VEVENT

END:VCALENDAR
