BEGIN:VCALENDAR
VERSION:2.0
PRODID:-//ChamberMaster//Event Calendar 2.0//EN
METHOD:PUBLISH
X-PUBLISHED-TTL:P3D
REFRESH-INTERVAL:P3D
CALSCALE:GREGORIAN
BEGIN:VEVENT
DTSTART:20190228T200000Z
DTEND:20190228T220000Z
X-MICROSOFT-CDO-ALLDAYEVENT:FALSE
SUMMARY:GROW Connects: Trademark\, Copyright\, and Doing Business Online
DESCRIPTION:When starting or growing your business online you want to make sure you know the legal (issues) that may affect your business. This session is designed to teach the business owner about doing business online\, plus tips about trademark\, trade name\, and copyright protection.
X-ALT-DESC;FMTTYPE=text/html:When starting or growing your business online you want to make sure you know the legal (issues) that may affect your business. This session is designed to teach the business owner about doing business online\, plus tips about trademark\, trade name\, and copyright protection.
LOCATION:
UID:e.2018.1118
SEQUENCE:3
DTSTAMP:20260420T080507Z
URL:https://members.westmihcc.org/events/details/grow-connects-trademark-copyright-and-doing-business-online-1118
END:VEVENT

END:VCALENDAR
