BEGIN:VCALENDAR
VERSION:2.0
PRODID:-//ChamberMaster//Event Calendar 2.0//EN
METHOD:PUBLISH
X-PUBLISHED-TTL:P3D
REFRESH-INTERVAL:P3D
CALSCALE:GREGORIAN
BEGIN:VEVENT
DTSTART:20170501T153000Z
DTEND:20170501T163000Z
X-MICROSOFT-CDO-ALLDAYEVENT:FALSE
SUMMARY:Grow Your Business Online
DESCRIPTION:We no longer go online\, we live online. Every day\, we turn to whatever device is on hand to act on our needs. Think about your potential customers. What are their I-want-to-know\, I-want-to-go\, I-want-to-do or I-want-to-buy moments? In this workshop\, we'll look at your approach to presenting your business online. We'll introduce you to tools such as:   Google My Business   Google AdWords and AdWords Express   Google Search Console   Google Analytics   Google Trends   Google Alerts   YouTube   G Suite Presented by SBDC West Michigan. To register\, go online at https://clients.sbdcmichigan.org/workshop.aspx?ekey=70370066 or call SBDC West Michigan at (616)331-7370. If you would also like to register for the "Get Found on Google Search and Maps" training that will occur after this session\, please go online at https://clients.sbdcmichigan.org/workshop.aspx?ekey=70370067.
X-ALT-DESC;FMTTYPE=text/html:We no longer go online\, we live online. Every day\, we turn to whatever device is on hand to act on our needs. Think about your potential customers. What are their I-want-to-know\, I-want-to-go\, I-want-to-do or I-want-to-buy moments? In this workshop\, we&rsquo\;ll look at your approach to presenting your business online. We&rsquo\;ll introduce you to tools such as: &middot\; Google My Business &middot\; Google AdWords and AdWords Express &middot\; Google Search Console &middot\; Google Analytics &middot\; Google Trends &middot\; Google Alerts &middot\; YouTube &middot\; G Suite Presented by SBDC West Michigan. To register\, go online at https://clients.sbdcmichigan.org/workshop.aspx?ekey=70370066 or call SBDC West Michigan at (616)331-7370. If you would also like to register for the &quot\;Get Found on Google Search and Maps&quot\; training that will occur after this session\, please go online at https://clients.sbdcmichigan.org/workshop.aspx?ekey=70370067.
LOCATION:GVSU Bicycle Factory 201 Front Avenue Grand Rapids\, MI 49504
UID:e.2018.583
SEQUENCE:3
DTSTAMP:20260425T120324Z
URL:https://members.westmihcc.org/events/details/grow-your-business-online-583
END:VEVENT

END:VCALENDAR
