BEGIN:VCALENDAR
VERSION:2.0
PRODID:-//ChamberMaster//Event Calendar 2.0//EN
METHOD:PUBLISH
X-PUBLISHED-TTL:P3D
REFRESH-INTERVAL:P3D
CALSCALE:GREGORIAN
BEGIN:VEVENT
DTSTART:20190516T130000Z
DTEND:20190516T150000Z
X-MICROSOFT-CDO-ALLDAYEVENT:FALSE
SUMMARY:Grow Your Business with Government Contracting
DESCRIPTION:Michigan is a hot spot for government contracts. Learn about getting set up for government contracting\, how to get your business certified as a Women-owned\, Veteran-owned\, or HUBZone small business\, and gain a better understanding of matchmaking events and how to get started. We'll guide you through the basics for government contracting and certification\, pausing for audience questions and feedback along the way.
X-ALT-DESC;FMTTYPE=text/html:Michigan is a hot spot for government contracts. Learn about getting set up for government contracting\, how to get your business certified as a Women-owned\, Veteran-owned\, or HUBZone small business\, and gain a better understanding of matchmaking events and how to get started. We&rsquo\;ll guide you through the basics for government contracting and certification\, pausing for audience questions and feedback along the way.
LOCATION:Lerner\, Csernai\, and Fath Financial Group 15505 Waldron Way Big Rapids\, MI 49307
UID:e.2018.1211
SEQUENCE:3
DTSTAMP:20260420T033247Z
URL:https://members.westmihcc.org/events/details/grow-your-business-with-government-contracting-05-16-2019-1211
END:VEVENT

END:VCALENDAR
