BEGIN:VCALENDAR
VERSION:2.0
PRODID:-//ChamberMaster//Event Calendar 2.0//EN
METHOD:PUBLISH
X-PUBLISHED-TTL:P3D
REFRESH-INTERVAL:P3D
CALSCALE:GREGORIAN
BEGIN:VEVENT
DTSTART:20191023T150000Z
DTEND:20191023T170000Z
X-MICROSOFT-CDO-ALLDAYEVENT:FALSE
SUMMARY:Grow Your Business with Government Contracting
DESCRIPTION:Michigan is a hot spot for government contracts. Learn about getting set up for government contracting\, how to get your business certified as a Women-owned\, Veteran-owned\, or HUBZone small business\, and gain a better understanding of matchmaking events and how to get started. We'll guide you through the basics for government contracting and certification\, pausing for audience questions and feedback along the way. To register\, click on this link: https://clients.sbdcmichigan.org/workshop.aspx?ekey=70390143. No cost.
X-ALT-DESC;FMTTYPE=text/html:Michigan is a hot spot for government contracts. Learn about getting set up for government contracting\, how to get your business certified as a Women-owned\, Veteran-owned\, or HUBZone small business\, and gain a better understanding of matchmaking events and how to get started. We&#39\;ll guide you through the basics for government contracting and certification\, pausing for audience questions and feedback along the way. To register\, click on this link: https://clients.sbdcmichigan.org/workshop.aspx?ekey=70390143. No cost.
LOCATION:Montcalm Community College Stanley and Blanche Ash Technology and Learning Center 1325 Yellow Jacket Drive Greenville\, MI 48838
UID:e.2018.1318
SEQUENCE:3
DTSTAMP:20260419T201416Z
URL:https://members.westmihcc.org/events/details/grow-your-business-with-government-contracting-10-23-2019-1318
END:VEVENT

END:VCALENDAR
