BEGIN:VCALENDAR
VERSION:2.0
PRODID:-//ChamberMaster//Event Calendar 2.0//EN
METHOD:PUBLISH
X-PUBLISHED-TTL:P3D
REFRESH-INTERVAL:P3D
CALSCALE:GREGORIAN
BEGIN:VEVENT
DTSTART:20190509T200000Z
DTEND:20190509T230000Z
X-MICROSOFT-CDO-ALLDAYEVENT:FALSE
SUMMARY:GRPS Community Hiring Event
DESCRIPTION:We look forward to meeting community members interested in career opportunities at Gordon Food Service!  \n\n \n\nCommunity Hiring Event\n\n \n\nPlease Register Here if you plan to attend the event and would like to receive communications from the Gordon Food Service team.  This event is open to the public from 4 PM - 7 PM.
X-ALT-DESC;FMTTYPE=text/html:<p>We look forward to meeting community members interested in career opportunities at Gordon Food Service!&nbsp\;&nbsp\;</p>\n\n<p>&nbsp\;</p>\n\n<p style="text-align:center"><span style="font-size:13.3333px"><strong>Community Hiring Event</strong></span></p>\n\n<p>&nbsp\;</p>\n\n<p>Please <a href="http://usjobs-gen-gfs.icims.com/connect?eventId=31539&amp\;shareLink=1" style="text-decoration-line: none\;"><span style="background-color:transparent\; color:rgb(17\, 85\, 204)\; font-family:arial\; font-size:11pt">Register Here</span></a> if you plan to attend the event and would like to receive communications from the Gordon Food Service team.&nbsp\; This event is open to the public from 4 PM - 7 PM.</p>\n
LOCATION:Innovation Central High School Gymnasium 421 Fountain St. NE Grand Rapids\, MI 49503
UID:e.2018.1215
SEQUENCE:3
DTSTAMP:20260420T032742Z
URL:https://members.westmihcc.org/events/details/grps-community-hiring-event-1215
END:VEVENT

END:VCALENDAR
