BEGIN:VCALENDAR
VERSION:2.0
PRODID:-//ChamberMaster//Event Calendar 2.0//EN
METHOD:PUBLISH
X-PUBLISHED-TTL:P3D
REFRESH-INTERVAL:P3D
CALSCALE:GREGORIAN
BEGIN:VEVENT
DTSTART:20180913T140000Z
DTEND:20180913T180000Z
X-MICROSOFT-CDO-ALLDAYEVENT:FALSE
SUMMARY:Gun Lake Casino is HIRING!
DESCRIPTION:The best days start with the best people\, and that's who we're looking for! We have a variety of full-time positions available\, all with great perks like insurance benefits\, free shift meals\, paid vacation\, and personal days. Join us at one of our job fairs  to learn more! Free health insurance and shift meals.
X-ALT-DESC;FMTTYPE=text/html:The best days start with the best people\, and that&rsquo\;s who we&rsquo\;re looking for! We have a variety of full-time positions available\, all with great perks like insurance benefits\, free shift meals\, paid vacation\, and personal days. Join us at one of our job fairs&nbsp\; to learn more! Free health insurance and shift meals.
LOCATION:Gun Lake Casino 1123 129th Ave\, Wayland\, MI 49348 Stage 131
UID:e.2018.959
SEQUENCE:3
DTSTAMP:20260422T134045Z
URL:https://members.westmihcc.org/events/details/gun-lake-casino-is-hiring-959
END:VEVENT

END:VCALENDAR
