BEGIN:VCALENDAR
VERSION:2.0
PRODID:-//ChamberMaster//Event Calendar 2.0//EN
METHOD:PUBLISH
X-PUBLISHED-TTL:P3D
REFRESH-INTERVAL:P3D
CALSCALE:GREGORIAN
BEGIN:VEVENT
DTSTART:20180920T140000Z
DTEND:20180920T180000Z
X-MICROSOFT-CDO-ALLDAYEVENT:FALSE
SUMMARY:Gun Lake Casino is HIRING!
DESCRIPTION:Gun Lake Casino is hiring for several positions. Free health insurance and shift meals included.
X-ALT-DESC;FMTTYPE=text/html:Gun Lake Casino is hiring for several positions. Free health insurance and shift meals included.
LOCATION:Gun Lake Casino\, Stage 131 1123 129th Ave.\, Wayland\, MI 49348
UID:e.2018.964
SEQUENCE:3
DTSTAMP:20260422T134018Z
URL:https://members.westmihcc.org/events/details/gun-lake-casino-is-hiring-964
END:VEVENT

END:VCALENDAR
