BEGIN:VCALENDAR
VERSION:2.0
PRODID:-//ChamberMaster//Event Calendar 2.0//EN
METHOD:PUBLISH
X-PUBLISHED-TTL:P3D
REFRESH-INTERVAL:P3D
CALSCALE:GREGORIAN
BEGIN:VEVENT
DTSTART:20190423T213000Z
DTEND:20190424T000000Z
X-MICROSOFT-CDO-ALLDAYEVENT:FALSE
SUMMARY:Gun Lake Casino is HIRING!! Multiple positions open.
DESCRIPTION:FREE HEALTH INSURANCE | FREE SHIFT MEALS\n\n\n\nThe best days start with the best people\, and that's who we're looking for! We have a variety of full-time positions available\, all with great perks like insurance benefits\, free shift meals\, paid vacation\, and personal days. Join us at one of our job fairs  to learn more!\n\n\n\nWe're hiring for various positions\, from cooks and bartenders\, to table games dealers\, buffet and internal maintenance.
X-ALT-DESC;FMTTYPE=text/html:<strong>FREE HEALTH INSURANCE | FREE SHIFT MEALS</strong><br />\n<br />\nThe best days start with the best people\, and that&rsquo\;s who we&rsquo\;re looking for! We have a variety of full-time positions available\, all with great perks like insurance benefits\, free shift meals\, paid vacation\, and personal days. Join us at one of our job fairs&nbsp\; to learn more!<br />\n<br />\nWe&rsquo\;re hiring for various positions\, from cooks and bartenders\, to table games dealers\, buffet and internal maintenance.
LOCATION:Tribal Government Complex (across the street from Gun Lake Casino)
UID:e.2018.1188
SEQUENCE:3
DTSTAMP:20260420T050546Z
URL:https://members.westmihcc.org/events/details/gun-lake-casino-is-hiring-multiple-positions-open-1188
END:VEVENT

END:VCALENDAR
