BEGIN:VCALENDAR
VERSION:2.0
PRODID:-//ChamberMaster//Event Calendar 2.0//EN
METHOD:PUBLISH
X-PUBLISHED-TTL:P3D
REFRESH-INTERVAL:P3D
CALSCALE:GREGORIAN
BEGIN:VEVENT
DTSTART:20180424T213000Z
DTEND:20180425T000000Z
X-MICROSOFT-CDO-ALLDAYEVENT:FALSE
SUMMARY:Gun Lake Casino Job Fair
DESCRIPTION:The best days start with the best people\, and that's who we're looking for! We have a variety of full-time positions available\, all with great perks like insurance benefits\, free shift meals\, and paid time off.\n\n\n\nWe're hiring for various positions\, from cooks and bartenders\, to table games dealers\, buffet and internal maintenance! Come and explore the opportunities and positions we are offering.
X-ALT-DESC;FMTTYPE=text/html:The best days start with the best people\, and that&rsquo\;s who we&rsquo\;re looking for! We have a variety of full-time positions available\, all with great perks like insurance benefits\, free shift meals\, and paid time off.<br />\n<br />\nWe&rsquo\;re hiring for various positions\, from cooks and bartenders\, to table games dealers\, buffet and internal maintenance! Come and explore the opportunities and positions we are offering.
LOCATION:Gun Lake Casino 1123 129th Ave\, Wayland\, MI 49348
UID:e.2018.829
SEQUENCE:3
DTSTAMP:20260422T201814Z
URL:https://members.westmihcc.org/events/details/gun-lake-casino-job-fair-829
END:VEVENT

END:VCALENDAR
