BEGIN:VCALENDAR
VERSION:2.0
PRODID:-//ChamberMaster//Event Calendar 2.0//EN
METHOD:PUBLISH
X-PUBLISHED-TTL:P3D
REFRESH-INTERVAL:P3D
CALSCALE:GREGORIAN
BEGIN:VEVENT
DTSTART:20180623T130000Z
DTEND:20180623T190000Z
X-MICROSOFT-CDO-ALLDAYEVENT:FALSE
SUMMARY:Gun Lake Casino Job Fair
DESCRIPTION:FREE HEALTH INSURANCE | FREE SHIFT MEALS\n\n\n\nThe best days start with the best people\, and that's who we're looking for! We have a variety of full-time positions available\, all with great perks like insurance benefits\, free shift meals\, paid vacation\, and personal days. Join us at one of our job fairs  to learn more!\n\n\n\nWe're hiring for various positions\, from cooks and bartenders\, to table games dealers\, buffet and internal maintenance.
X-ALT-DESC;FMTTYPE=text/html:<strong>FREE HEALTH INSURANCE | FREE SHIFT MEALS</strong><br />\n<br />\nThe best days start with the best people\, and that&rsquo\;s who we&rsquo\;re looking for! We have a variety of full-time positions available\, all with great perks like insurance benefits\, free shift meals\, paid vacation\, and personal days. Join us at one of our job fairs&nbsp\; to learn more!<br />\n<br />\nWe&rsquo\;re hiring for various positions\, from cooks and bartenders\, to table games dealers\, buffet and internal maintenance.
LOCATION:Tribal Government Complex (across the street from Gun Lake Casino)
UID:e.2018.868
SEQUENCE:3
DTSTAMP:20260422T172216Z
URL:https://members.westmihcc.org/events/details/gun-lake-casino-job-fair-868
END:VEVENT

END:VCALENDAR
