BEGIN:VCALENDAR
VERSION:2.0
PRODID:-//ChamberMaster//Event Calendar 2.0//EN
METHOD:PUBLISH
X-PUBLISHED-TTL:P3D
REFRESH-INTERVAL:P3D
CALSCALE:GREGORIAN
BEGIN:VEVENT
DTSTART:20180611T140000Z
DTEND:20180611T180000Z
X-MICROSOFT-CDO-ALLDAYEVENT:FALSE
SUMMARY:Gun Lake Casino Open Interviews
DESCRIPTION:Gun Lake Casino is hosting open interview this Monday\, June 11th from 10am-2pm.\n\n\n\nThe best days start with the best people\, and that's who we're looking for! Join us in the Buffet private dining room as we hold open interviews for all restaurant positions. Including Sous Chefs\, Prep Cooks\, Lead Kitchen Steward\, and more. You can apply ahead of time\, or in person during the event.
X-ALT-DESC;FMTTYPE=text/html:Gun Lake Casino is hosting open interview this Monday\, June 11th&nbsp\;from 10am-2pm.<br />\n<br />\n<strong>The best days start with the best people</strong>\, and that&rsquo\;s who we&rsquo\;re looking for! Join us in the Buffet private dining room as we hold open interviews for all restaurant positions. Including Sous Chefs\, Prep Cooks\, Lead Kitchen Steward\, and more. You can apply ahead of time\, or in person during the event.&nbsp\;
LOCATION:Gun Lake Casino 9476\, 1123 129th Ave\, Wayland\, MI 49348
UID:e.2018.854
SEQUENCE:3
DTSTAMP:20260422T171910Z
URL:https://members.westmihcc.org/events/details/gun-lake-casino-open-interviews-854
END:VEVENT

END:VCALENDAR
