BEGIN:VCALENDAR
VERSION:2.0
PRODID:-//ChamberMaster//Event Calendar 2.0//EN
METHOD:PUBLISH
X-PUBLISHED-TTL:P3D
REFRESH-INTERVAL:P3D
CALSCALE:GREGORIAN
BEGIN:VEVENT
DTSTART:20170309T170000Z
DTEND:20170309T181500Z
X-MICROSOFT-CDO-ALLDAYEVENT:FALSE
SUMMARY:GVSU Professor Chapman Keynore at Rotary Club GR
DESCRIPTION:Well-known and engaging speaker\, Dr. Alice Chapman\, Associate Professor of History at GVSU\, will be providing a keynote presentation at the Grand Rapids Rotary Club. Dr. Chapman\, a former Rotary Ambassadorial Scholar\, studied at the University of Cambridge in the United Kingdom. Join 100 business leaders for a delicious lunch and engaging conversation. Rotary\, "Where Leaders Meet." First time guests receive complimentary lunch. Contact rotary@grrotary.org or call 616-459-5640 to RSVP by March 3
X-ALT-DESC;FMTTYPE=text/html:<span style="color: rgb(34\, 34\, 34)\; font-family: arial\, sans-serif\; font-size: 13.3333px\;">Well-known and engaging speaker\, Dr. Alice Chapman\, Associate Professor of History at GVSU\, will be providing a keynote presentation at the Grand Rapids Rotary Club. Dr. Chapman\, a former Rotary Ambassadorial Scholar\, studied at the University of Cambridge in the United Kingdom. Join 100 business leaders for a delicious lunch and engaging conversation. Rotary\, &ldquo\;Where Leaders Meet.&rdquo\; First time guests receive complimentary lunch. Contact&nbsp\;</span><a href="mailto:rotary@grrotary.org" style="color: rgb(17\, 85\, 204)\; font-family: arial\, sans-serif\; font-size: 13.3333px\;" target="_blank">rotary@grrotary.org</a><span style="color: rgb(34\, 34\, 34)\; font-family: arial\, sans-serif\; font-size: 13.3333px\;">&nbsp\;or call&nbsp\;</span><a href="tel:(616)%20459-5640" style="color: rgb(17\, 85\, 204)\; font-family: arial\, sans-serif\; font-size: 13.3333px\;" target="_blank" value="+16164595640">616-459-5640</a><span style="color: rgb(34\, 34\, 34)\; font-family: arial\, sans-serif\; font-size: 13.3333px\;">&nbsp\;to RSVP by&nbsp\;</span><span class="aBn" data-term="goog_77410698" style="border-bottom: 1px dashed rgb(204\, 204\, 204)\; position: relative\; top: -2px\; z-index: 0\; color: rgb(34\, 34\, 34)\; font-family: arial\, sans-serif\; font-size: 13.3333px\;" tabindex="0"><span class="aQJ" style="position: relative\; top: 2px\; z-index: -1\;">March 3</span></span>
LOCATION:University Club\, 111 Lyon St NW # 1025\, Grand Rapids\, MI 49503
UID:e.2018.554
SEQUENCE:3
DTSTAMP:20260425T144501Z
URL:https://members.westmihcc.org/events/details/gvsu-professor-chapman-keynore-at-rotary-club-gr-554
END:VEVENT

END:VCALENDAR
