BEGIN:VCALENDAR
VERSION:2.0
PRODID:-//ChamberMaster//Event Calendar 2.0//EN
METHOD:PUBLISH
X-PUBLISHED-TTL:P3D
REFRESH-INTERVAL:P3D
CALSCALE:GREGORIAN
BEGIN:VEVENT
DTSTART:20190127T190000Z
DTEND:20190127T220000Z
X-MICROSOFT-CDO-ALLDAYEVENT:FALSE
SUMMARY:Harlem Globetrotters
DESCRIPTION:The world famous Harlem Globetrotters\, featuring some of the most electrifying athletes on the planet\, will bring their spectacular show to Van Andel Arena during their 2019 World Tour on Sunday\, January 27th at 2:00PM. The famed team will feature a star-studded roster that includes Big Easy Lofton\, Ant Atkinson\, Hi-Lite Bruton\, Thunder Law\, Bull Bullard and Cheese Chisholm*  the Globetrotters' one-of-a-kind show is unrivaled in the world of family entertainment. Every game will showcase incredible ball handling wizardry\, rim-rattling dunks\, trick shots\, hilarious comedy and unequaled fan interaction. Prepare to be amazed as the Globetrotters showcase basketball's first 4-point line\, located 30 feet from the basket   6 feet\, 3 inches beyond the top of the NBA's current 3-point line You won't want your family to miss it   buy your tickets today! *Rosters will vary in each city and are subject to change Tickets go on sale Wednesday\, October 3\, 2018 @ 10 AM
X-ALT-DESC;FMTTYPE=text/html:The world famous Harlem Globetrotters\, featuring some of the most electrifying athletes on the planet\, will bring their spectacular show to Van Andel Arena during their 2019 World Tour on Sunday\, January 27th at 2:00PM. The famed team will feature a star-studded roster that includes Big Easy Lofton\, Ant Atkinson\, Hi-Lite Bruton\, Thunder Law\, Bull Bullard and Cheese Chisholm*&ndash\; the Globetrotters&rsquo\; one-of-a-kind show is unrivaled in the world of family entertainment. Every game will showcase incredible ball handling wizardry\, rim-rattling dunks\, trick shots\, hilarious comedy and unequaled fan interaction. Prepare to be amazed as the Globetrotters showcase basketball&rsquo\;s first 4-point line\, located 30 feet from the basket &ndash\; 6 feet\, 3 inches beyond the top of the NBA&rsquo\;s current 3-point line You won&#39\;t want your family to miss it &ndash\; buy your tickets today! *Rosters will vary in each city and are subject to change Tickets go on sale Wednesday\, October 3\, 2018 @ 10 AM
LOCATION:Van Andel Arena
UID:e.2018.967
SEQUENCE:3
DTSTAMP:20260422T081851Z
URL:https://members.westmihcc.org/events/details/harlem-globetrotters-01-27-2019-967
END:VEVENT

END:VCALENDAR
