BEGIN:VCALENDAR
VERSION:2.0
PRODID:-//ChamberMaster//Event Calendar 2.0//EN
METHOD:PUBLISH
X-PUBLISHED-TTL:P3D
REFRESH-INTERVAL:P3D
CALSCALE:GREGORIAN
BEGIN:VEVENT
DTSTART:20180121T190000Z
DTEND:20180121T220000Z
X-MICROSOFT-CDO-ALLDAYEVENT:FALSE
SUMMARY:Harlem Globetrotters
DESCRIPTION:The original Harlem Globetrotters are preparing for their action packed 2017-2018 tour! A star-studded roster will have fans on the edge of their seats to witness the ball handling wizardry\, basketball artistry and one-of-a-kiind family entertainment that thrills fans of all ages. Get the ultimate experience for your family with a Magic Pass. Magic Pass is the pre-game event where your family will hang out with the stars of the team\, right on the court\, and will have the chance to: Shoot Hoops with the Globetrotter Stars\, Learn Tricks with the Globetrotters Stars and Get Autographs and Selfies with the Globetrotters Stars. *Each customer must have a show ticket AND a Magic Pass ticket for entry into the buklding for this event. Magic Pass sold separately. Tickets go on sale Tuesday\, October 17\, 2017 @ 10 AM Tickets may be purchased at the Van Andel Arena  and DeVos Place  convention center box offices\, charge by phone: 1.800.745.3000 or on line at Ticketmaster.com. Ticket prices are subject to change.
X-ALT-DESC;FMTTYPE=text/html:The original Harlem Globetrotters are preparing for their action packed 2017-2018 tour! A star-studded roster will have fans on the edge of their seats to witness the ball handling wizardry\, basketball artistry and one-of-a-kiind family entertainment that thrills fans of all ages. Get the ultimate experience for your family with a Magic Pass. Magic Pass is the pre-game event where your family will hang out with the stars of the team\, right on the court\, and will have the chance to: Shoot Hoops with the Globetrotter Stars\, Learn Tricks with the Globetrotters Stars and Get Autographs and Selfies with the Globetrotters Stars. *Each customer must have a show ticket AND a Magic Pass ticket for entry into the buklding for this event. Magic Pass sold separately. Tickets go on sale Tuesday\, October 17\, 2017 @ 10 AM Tickets may be purchased at the Van Andel Arena&reg\; and DeVos Place&reg\; convention center box offices\, charge by phone: 1.800.745.3000 or on line at Ticketmaster.com. Ticket prices are subject to change.
LOCATION:Van Andel Arena
UID:e.2018.678
SEQUENCE:3
DTSTAMP:20260423T003608Z
URL:https://members.westmihcc.org/events/details/harlem-globetrotters-678
END:VEVENT

END:VCALENDAR
