BEGIN:VCALENDAR
VERSION:2.0
PRODID:-//ChamberMaster//Event Calendar 2.0//EN
METHOD:PUBLISH
X-PUBLISHED-TTL:P3D
REFRESH-INTERVAL:P3D
CALSCALE:GREGORIAN
BEGIN:VEVENT
DTSTART:20181127T003000Z
DTEND:20181127T023000Z
X-MICROSOFT-CDO-ALLDAYEVENT:FALSE
SUMMARY:Harry Connick Jr.
DESCRIPTION:Join Harry Connick Jr. and his amazing band as they celebrate New Orleans' three hundredth birthday and the influences that shaped his career. Enjoy the evening as Harry toasts this beloved city and also performs a selection of holiday favorites\, when the "A New Orleans Tradition Celebration... Holiday Edition" tour comes to DeVos Performance Hall on Monday\, November 26th at 7:30PM. Harry Connick Jr. has exemplified excellence in every aspect of the entertainment world. He has received recognition with multiple Grammy and Emmy Awards as well as Tony nominations for his live and recorded musical performances\, his achievements on screens large and small and his appearances on Broadway as both an actor and a composer. The foundation of Connick's art is the music of his native New Orleans\, where he began performing as a pianist and vocalist at the age of five. Tickets go on sale Friday\, September 28th at 12PM.
X-ALT-DESC;FMTTYPE=text/html:Join Harry Connick Jr. and his amazing band as they celebrate New Orleans&#39\; three hundredth birthday and the influences that shaped his career. Enjoy the evening as Harry toasts this beloved city and also performs a selection of holiday favorites\, when the &quot\;A New Orleans Tradition Celebration... Holiday Edition&quot\; tour comes to DeVos Performance Hall on Monday\, November 26th at 7:30PM. Harry Connick Jr. has exemplified excellence in every aspect of the entertainment world. He has received recognition with multiple Grammy and Emmy Awards as well as Tony nominations for his live and recorded musical performances\, his achievements on screens large and small and his appearances on Broadway as both an actor and a composer. The foundation of Connick&#39\;s art is the music of his native New Orleans\, where he began performing as a pianist and vocalist at the age of five. Tickets go on sale Friday\, September 28th at 12PM.
LOCATION:Devos Performance Hall
UID:e.2018.970
SEQUENCE:3
DTSTAMP:20260422T110545Z
URL:https://members.westmihcc.org/events/details/harry-connick-jr-970
END:VEVENT

END:VCALENDAR
