BEGIN:VCALENDAR
VERSION:2.0
PRODID:-//ChamberMaster//Event Calendar 2.0//EN
METHOD:PUBLISH
X-PUBLISHED-TTL:P3D
REFRESH-INTERVAL:P3D
CALSCALE:GREGORIAN
BEGIN:VEVENT
DTSTART:20180331T000000Z
DTEND:20180331T020000Z
X-MICROSOFT-CDO-ALLDAYEVENT:FALSE
SUMMARY:Haters Roast- The Shady Tour 2018
DESCRIPTION:Murray & Peter Present HATERS ROAST   The Shady Tour 2018 starring contestants from RuPaul's Drag Race on VH1 coming to DeVos Performance Hall on Friday\, March 30th at 8:00PM. Get ready for some reads. Featuring your favorite stars including Trixie Mattel\, Latrice Royale\, Trinity Taylor\, Jinkx Monsoon\, Thorgy Thor and Willam\, and hosted by Ginger Minj. Tickets go on sale on Wednesday\, December 20th at 10AM. Tickets available on Ticketmaster.com\, Van Andel Arena & DeVos Place box offices and charge by phone at 1-800-745-3000. Prices are subject to change. VIP Meet & Greet Tickets available online. VIP tickets include a guarenteed premium reserved seat on the main floor\, meet all the queens and take pics (before the show)\, score autographs\, plus receive an official tour poster and customized laminate with lanyard. You must check-in at the box office upon arrival at the venue to receive your tour swag. Meet & greet starts at 6PM sharp and concludes by 7PM or sooner\, when the line ends. Please arrive at the venue by 5:45PM. If you arrive late you will miss your chance to meet the queens.
X-ALT-DESC;FMTTYPE=text/html:Murray &amp\; Peter Present HATERS ROAST &ndash\; The Shady Tour 2018 starring contestants from RuPaul&rsquo\;s Drag Race on VH1 coming to DeVos Performance Hall on Friday\, March 30th at 8:00PM. Get ready for some reads. Featuring your favorite stars including Trixie Mattel\, Latrice Royale\, Trinity Taylor\, Jinkx Monsoon\, Thorgy Thor and Willam\, and hosted by Ginger Minj. Tickets go on sale on Wednesday\, December 20th at 10AM. Tickets available on Ticketmaster.com\, Van Andel Arena &amp\; DeVos Place box offices and charge by phone at 1-800-745-3000. Prices are subject to change. VIP Meet &amp\; Greet Tickets available online. VIP tickets include a guarenteed premium reserved seat on the main floor\, meet all the queens and take pics (before the show)\, score autographs\, plus receive an official tour poster and customized laminate with lanyard. You must check-in at the box office upon arrival at the venue to receive your tour swag. Meet &amp\; greet starts at 6PM sharp and concludes by 7PM or sooner\, when the line ends. Please arrive at the venue by 5:45PM. If you arrive late you will miss your chance to meet the queens.
LOCATION:DeVos Performance Hall
UID:e.2018.726
SEQUENCE:3
DTSTAMP:20260422T230904Z
URL:https://members.westmihcc.org/events/details/haters-roast-the-shady-tour-2018-726
END:VEVENT

END:VCALENDAR
