BEGIN:VCALENDAR
VERSION:2.0
PRODID:-//ChamberMaster//Event Calendar 2.0//EN
METHOD:PUBLISH
X-PUBLISHED-TTL:P3D
REFRESH-INTERVAL:P3D
CALSCALE:GREGORIAN
BEGIN:VEVENT
DTSTART:20191025T013000Z
DTEND:20191025T053000Z
X-MICROSOFT-CDO-ALLDAYEVENT:FALSE
SUMMARY:Haunted Fest Michigan
DESCRIPTION:Prime Social Group Presents Haunted Fest Michigan featuring: Porter Robinson\, Chris Lake\, 1788-L\, Attak & Kar Pow
X-ALT-DESC;FMTTYPE=text/html:Prime Social Group Presents Haunted Fest Michigan featuring: Porter Robinson\, Chris Lake\, 1788-L\, Attak &amp\; Kar Pow
LOCATION:The DeltaPlex Arena and Conference Center
UID:e.2018.1334
SEQUENCE:3
DTSTAMP:20260419T200651Z
URL:https://members.westmihcc.org/events/details/haunted-fest-michigan-1334
END:VEVENT

END:VCALENDAR
