BEGIN:VCALENDAR
VERSION:2.0
PRODID:-//ChamberMaster//Event Calendar 2.0//EN
METHOD:PUBLISH
X-PUBLISHED-TTL:P3D
REFRESH-INTERVAL:P3D
CALSCALE:GREGORIAN
BEGIN:VEVENT
DTSTART:20191102T140000Z
DTEND:20191103T230000Z
X-MICROSOFT-CDO-ALLDAYEVENT:FALSE
SUMMARY:Healing Body\, Mind and Spirit Expo
DESCRIPTION:Experienced Holistic Healers\, Mediums & Intuitives from across the US & Canada. Angel readers\, tarot\, aura photos\, stones\, crystals\, pet communicators\, body workers\, crystal healers\, spirit artists\, numerology\, aromatherapy\, astrologists\, palmistry\, essential oils\, holistic products\, drums & flutes\, jewelry\, minerals and more!!!
X-ALT-DESC;FMTTYPE=text/html:Experienced Holistic Healers\, Mediums &amp\; Intuitives from across the US &amp\; Canada. Angel readers\, tarot\, aura photos\, stones\, crystals\, pet communicators\, body workers\, crystal healers\, spirit artists\, numerology\, aromatherapy\, astrologists\, palmistry\, essential oils\, holistic products\, drums &amp\; flutes\, jewelry\, minerals and more!!!
LOCATION:The DeltaPlex Arena and Conference Center
UID:e.2018.1335
SEQUENCE:3
DTSTAMP:20260419T195514Z
URL:https://members.westmihcc.org/events/details/healing-body-mind-and-spirit-expo-1335
END:VEVENT

END:VCALENDAR
