BEGIN:VCALENDAR
VERSION:2.0
PRODID:-//ChamberMaster//Event Calendar 2.0//EN
METHOD:PUBLISH
X-PUBLISHED-TTL:P3D
REFRESH-INTERVAL:P3D
CALSCALE:GREGORIAN
BEGIN:VEVENT
DTSTART:20160613T193000Z
DTEND:20160613T223000Z
X-MICROSOFT-CDO-ALLDAYEVENT:FALSE
SUMMARY:Herman Miller to host WMHCC + MiDiCo (Michigan Diversity Connections)
DESCRIPTION:Please join us on June 13\, 2016 for the Supplier Diversity Exchange as we host the West Michigan Hispanic Chamber of Commerce (WMHCC) and Michigan Diversity Connections (MiDiCo) members for an event of networking\, learning and building new connections.
X-ALT-DESC;FMTTYPE=text/html:Please join us on June 13\, 2016 for the Supplier Diversity Exchange as we host the West Michigan Hispanic Chamber of Commerce (WMHCC) and Michigan Diversity Connections (MiDiCo) members for an event of networking\, learning and building new connections.&nbsp\;
LOCATION:Herman Miller Main site 855 E Main St Zeeland MI 49464
UID:e.2018.397
SEQUENCE:3
DTSTAMP:20260426T035828Z
URL:https://members.westmihcc.org/events/details/herman-miller-to-host-wmhcc-midico-michigan-diversity-connections-06-13-2016-397
END:VEVENT

END:VCALENDAR
