BEGIN:VCALENDAR
VERSION:2.0
PRODID:-//ChamberMaster//Event Calendar 2.0//EN
METHOD:PUBLISH
X-PUBLISHED-TTL:P3D
REFRESH-INTERVAL:P3D
CALSCALE:GREGORIAN
BEGIN:VEVENT
DTSTART:20190625T233000Z
DTEND:20190626T023000Z
X-MICROSOFT-CDO-ALLDAYEVENT:FALSE
SUMMARY:Hillsong United Tour 2019
DESCRIPTION:Hillsong United brings their 2019 Tour to Van Andel Arena on Tuesday\, June 25th\, 2019 at 7:30PM. Tour features special guests Amanda Cook and Mack Brock. Formed in 1998\, Hilsong United is led by Brian and Bobbie's son\, Joel Houston. Hillsong United has created 17 albums. Their song Oceans (Where Feet May Fail) from their album Zion reached platinum status in the U.S. The group has toured for many years\, packing out large venues like Staples Centre in Los Angeles. In 2016\, Hillson United was named Top Christian Artist at the Billboard Music Awards. Over the last few years\, Hillsong UNITED has evolved as a band\, but never lost focus on their one purpose and passion: Worship. Creative\, diverse and not limited to any one demographic\, the heart of Hillsong UNITED is to create music that reveals the truth of who Jesus is. Special guests on tour with Hillsong United are Amanda Cook and Mack Brock.
X-ALT-DESC;FMTTYPE=text/html:Hillsong United brings their 2019 Tour to Van Andel Arena on Tuesday\, June 25th\, 2019 at 7:30PM. Tour features special guests Amanda Cook and Mack Brock. Formed in 1998\, Hilsong United is led by Brian and Bobbie&#39\;s son\, Joel Houston. Hillsong United has created 17 albums. Their song Oceans (Where Feet May Fail) from their album Zion reached platinum status in the U.S. The group has toured for many years\, packing out large venues like Staples Centre in Los Angeles. In 2016\, Hillson United was named Top Christian Artist at the Billboard Music Awards. Over the last few years\, Hillsong UNITED has evolved as a band\, but never lost focus on their one purpose and passion: Worship. Creative\, diverse and not limited to any one demographic\, the heart of Hillsong UNITED is to create music that reveals the truth of who Jesus is. Special guests on tour with Hillsong United are Amanda Cook and Mack Brock.
LOCATION:Van Andel Arena
UID:e.2018.1003
SEQUENCE:3
DTSTAMP:20260420T033119Z
URL:https://members.westmihcc.org/events/details/hillsong-united-tour-2019-1003
END:VEVENT

END:VCALENDAR
