BEGIN:VCALENDAR
VERSION:2.0
PRODID:-//ChamberMaster//Event Calendar 2.0//EN
METHOD:PUBLISH
X-PUBLISHED-TTL:P3D
REFRESH-INTERVAL:P3D
CALSCALE:GREGORIAN
BEGIN:VEVENT
DTSTART:20190326T220000Z
DTEND:20190327T003000Z
X-MICROSOFT-CDO-ALLDAYEVENT:FALSE
SUMMARY:Hispanic Chamber 2019 Annual Awards Gala
DESCRIPTION:The West Michigan Hispanic Chamber of Commerce is proud to present our 2019 Annual Awards Gala. For over ten years\, the WMHCC has recognized the hard work and accomplishments of its members and the Hispanic community by offering six separate achievement awards\, including:\n\n- Hispanic Business of the Year\n\n- Hispanic Businessperson of the Year\n\n- Most Promising Hispanic Business\n\n- Young Professional of the Year\n\n- Building Bridges Award\n\n- Non-Profit Champion Award\n\nOn this night\, we celebrate the award recipients\, all those nominated\, and the wonderful success the WMHCC and its many members found in 2018.
X-ALT-DESC;FMTTYPE=text/html:<p style="margin: 0px\; padding: 0px\; color: rgb(102\, 106\, 115)\; font-family: &quot\;Benton Sans&quot\;\, &quot\;Helvetica Neue&quot\;\, Helvetica\, Roboto\, Arial\, sans-serif\; font-size: 15px\; letter-spacing: 0.5px\; background-color: rgb(255\, 255\, 255)\;"><span style="padding-top: 0px\;">The West Michigan Hispanic Chamber of Commerce is proud to present our 2019&nbsp\;Annual Awards Gala. For over ten years\, the WMHCC has recognized the hard work and accomplishments of its members and the Hispanic community by offering six separate achievement awards\, including:</span></p>\n\n<p style="margin: 0px\; padding: 10px 0px 0px\; color: rgb(102\, 106\, 115)\; font-family: &quot\;Benton Sans&quot\;\, &quot\;Helvetica Neue&quot\;\, Helvetica\, Roboto\, Arial\, sans-serif\; font-size: 15px\; letter-spacing: 0.5px\; background-color: rgb(255\, 255\, 255)\;"><span style="padding-top: 0px\;"><span style="font-weight: 700\; padding-top: 0px\;">- Hispanic Business of the Year</span></span></p>\n\n<p style="margin: 0px\; padding: 10px 0px 0px\; color: rgb(102\, 106\, 115)\; font-family: &quot\;Benton Sans&quot\;\, &quot\;Helvetica Neue&quot\;\, Helvetica\, Roboto\, Arial\, sans-serif\; font-size: 15px\; letter-spacing: 0.5px\; background-color: rgb(255\, 255\, 255)\;"><span style="padding-top: 0px\;"><span style="font-weight: 700\; padding-top: 0px\;">- Hispanic Businessperson of the Year</span></span></p>\n\n<p style="margin: 0px\; padding: 10px 0px 0px\; color: rgb(102\, 106\, 115)\; font-family: &quot\;Benton Sans&quot\;\, &quot\;Helvetica Neue&quot\;\, Helvetica\, Roboto\, Arial\, sans-serif\; font-size: 15px\; letter-spacing: 0.5px\; background-color: rgb(255\, 255\, 255)\;"><span style="padding-top: 0px\;"><span style="font-weight: 700\; padding-top: 0px\;">- Most Promising Hispanic Business</span></span></p>\n\n<p style="margin: 0px\; padding: 10px 0px 0px\; color: rgb(102\, 106\, 115)\; font-family: &quot\;Benton Sans&quot\;\, &quot\;Helvetica Neue&quot\;\, Helvetica\, Roboto\, Arial\, sans-serif\; font-size: 15px\; letter-spacing: 0.5px\; background-color: rgb(255\, 255\, 255)\;"><span style="padding-top: 0px\;"><span style="font-weight: 700\; padding-top: 0px\;">- Young Professional of the Year</span></span></p>\n\n<p style="margin: 0px\; padding: 10px 0px 0px\; color: rgb(102\, 106\, 115)\; font-family: &quot\;Benton Sans&quot\;\, &quot\;Helvetica Neue&quot\;\, Helvetica\, Roboto\, Arial\, sans-serif\; font-size: 15px\; letter-spacing: 0.5px\; background-color: rgb(255\, 255\, 255)\;"><span style="padding-top: 0px\;"><span style="font-weight: 700\; padding-top: 0px\;">- Building Bridges Award</span></span></p>\n\n<p style="margin: 0px\; padding: 10px 0px 0px\; color: rgb(102\, 106\, 115)\; font-family: &quot\;Benton Sans&quot\;\, &quot\;Helvetica Neue&quot\;\, Helvetica\, Roboto\, Arial\, sans-serif\; font-size: 15px\; letter-spacing: 0.5px\; background-color: rgb(255\, 255\, 255)\;"><span style="padding-top: 0px\;"><span style="font-weight: 700\; padding-top: 0px\;">- Non-Profit Champion Award</span></span></p>\n\n<p style="margin: 0px\; padding: 10px 0px 0px\; color: rgb(102\, 106\, 115)\; font-family: &quot\;Benton Sans&quot\;\, &quot\;Helvetica Neue&quot\;\, Helvetica\, Roboto\, Arial\, sans-serif\; font-size: 15px\; letter-spacing: 0.5px\; background-color: rgb(255\, 255\, 255)\;"><span style="padding-top: 0px\;">On this night\, we celebrate the award recipients\, all those nominated\, and the wonderful success the WMHCC and its many members found in 2018.</span></p>\n
LOCATION:J.W. Marriott 235 Louis St. N.W. Grand Rapids\, MI 49503
UID:e.2018.1064
SEQUENCE:3
DTSTAMP:20260420T063308Z
URL:https://members.westmihcc.org/events/details/hispanic-chamber-2019-annual-awards-gala-1064
END:VEVENT

END:VCALENDAR
