BEGIN:VCALENDAR
VERSION:2.0
PRODID:-//ChamberMaster//Event Calendar 2.0//EN
METHOD:PUBLISH
X-PUBLISHED-TTL:P3D
REFRESH-INTERVAL:P3D
CALSCALE:GREGORIAN
BEGIN:VEVENT
DTSTART:20170419T220000Z
DTEND:20170420T010000Z
X-MICROSOFT-CDO-ALLDAYEVENT:FALSE
SUMMARY:Hispanic Chamber Awards Gala 2017
DESCRIPTION:Join us for an evening of celebration where we will recognize members of the Hispanic Chamber of Commerce for the impact they create in the Hispanic business community in West Michigan.  \n\nWe will be recognizing the following categories:\n\n\n\n Hispanic Business of the Year  \n\nHispanic Businessperson of the Year\n\nMost promising Hispanic Business\n\n Young Professional of the Year\n\nBuilding Bridges Award\n\nNon-Profit Champion Award\n\n \n\nEvent attire: Business. Black Tie Optional. \n\nVestuario para el evento es de negocios. Traje de gala es opcional.
X-ALT-DESC;FMTTYPE=text/html:<p style="margin: 0px\; padding: 0px 0px 8px\; line-height: normal\; color: rgb(70\, 145\, 166)\; font-family: &quot\;Helvetica Neue&quot\;\, Helvetica\, Arial\, sans-serif\; font-size: 13.2px\; letter-spacing: 0.5px\; text-align: center\;"><span style="font-size:14px\;"><span style="font-family:verdana\;"><span style="color:#000000\;"><span style="line-height: 19.2px\; text-align: justify\;">Join&nbsp\;us for an evening of celebration&nbsp\;</span><span style="line-height: 19.2px\; text-align: justify\;">where we will recognize members of the Hispanic Chamber of Commerce for the impact they create in the Hispanic business community in West Michigan.&nbsp\;</span>&nbsp\;</span></span></span></p>\n\n<p style="margin: 0px\; padding: 0px 0px 8px\; line-height: normal\; color: rgb(70\, 145\, 166)\; font-family: &quot\;Helvetica Neue&quot\;\, Helvetica\, Arial\, sans-serif\; font-size: 13.2px\; letter-spacing: 0.5px\; text-align: center\;"><span style="font-size:14px\;"><span style="font-family:verdana\;"><span style="color:#000000\;">We will be recognizing the following categories:</span></span></span></p>\n\n<p style="margin: 0px\; padding: 0px 0px 8px\; line-height: normal\; color: rgb(70\, 145\, 166)\; font-family: &quot\;Helvetica Neue&quot\;\, Helvetica\, Arial\, sans-serif\; font-size: 13.2px\; letter-spacing: 0.5px\; text-align: center\;"><br />\n<span style="font-size:14px\;"><span style="font-family:verdana\;"><span style="color:#000000\;"><strong>&nbsp\;Hispanic Business of the Year &nbsp\;</strong></span></span></span></p>\n\n<p style="margin: 0px\; padding: 0px 0px 8px\; line-height: normal\; color: rgb(70\, 145\, 166)\; font-family: &quot\;Helvetica Neue&quot\;\, Helvetica\, Arial\, sans-serif\; font-size: 13.2px\; letter-spacing: 0.5px\; text-align: center\;"><strong><span style="font-size:14px\;"><span style="font-family:verdana\;"><span style="color:#000000\;">Hispanic Businessperson of the Year</span></span></span></strong></p>\n\n<p style="margin: 0px\; padding: 0px 0px 8px\; line-height: normal\; color: rgb(70\, 145\, 166)\; font-family: &quot\;Helvetica Neue&quot\;\, Helvetica\, Arial\, sans-serif\; font-size: 13.2px\; letter-spacing: 0.5px\; text-align: center\;"><strong><span style="font-size:14px\;"><span style="font-family:verdana\;"><span style="color:#000000\;">Most promising Hispanic Business</span></span></span></strong></p>\n\n<p style="margin: 0px\; padding: 0px 0px 8px\; line-height: normal\; color: rgb(70\, 145\, 166)\; font-family: &quot\;Helvetica Neue&quot\;\, Helvetica\, Arial\, sans-serif\; font-size: 13.2px\; letter-spacing: 0.5px\; text-align: center\;"><strong><span style="font-size:14px\;"><span style="font-family:verdana\;"><span style="color:#000000\;">&nbsp\;Young Professional of the Year</span></span></span></strong></p>\n\n<p style="margin: 0px\; padding: 0px 0px 8px\; line-height: normal\; color: rgb(70\, 145\, 166)\; font-family: &quot\;Helvetica Neue&quot\;\, Helvetica\, Arial\, sans-serif\; font-size: 13.2px\; letter-spacing: 0.5px\; text-align: center\;"><strong><span style="font-size:14px\;"><span style="font-family:verdana\;"><span style="color:#000000\;">Building Bridges Award</span></span></span></strong></p>\n\n<p style="margin: 0px\; padding: 0px 0px 8px\; line-height: normal\; color: rgb(70\, 145\, 166)\; font-family: &quot\;Helvetica Neue&quot\;\, Helvetica\, Arial\, sans-serif\; font-size: 13.2px\; letter-spacing: 0.5px\; text-align: center\;"><strong><span style="font-size:14px\;"><span style="font-family:verdana\;"><span style="color:#000000\;">Non-Profit Champion Award</span></span></span></strong></p>\n\n<p style="margin: 0px\; padding: 0px 0px 8px\; line-height: normal\; color: rgb(70\, 145\, 166)\; font-family: &quot\;Helvetica Neue&quot\;\, Helvetica\, Arial\, sans-serif\; font-size: 13.2px\; letter-spacing: 0.5px\;">&nbsp\;</p>\n\n<p style="margin: 0px\; padding: 0px 0px 8px\; line-height: normal\; color: rgb(70\, 145\, 166)\; font-family: &quot\;Helvetica Neue&quot\;\, Helvetica\, Arial\, sans-serif\; font-size: 13.2px\; letter-spacing: 0.5px\;"><span style="font-size:14px\;"><span style="font-family:verdana\;"><span style="color:#000000\;">Event attire: Business. Black Tie Optional.&nbsp\;</span></span></span></p>\n\n<p style="margin: 0px\; padding: 0px 0px 8px\; line-height: normal\; color: rgb(70\, 145\, 166)\; font-family: &quot\;Helvetica Neue&quot\;\, Helvetica\, Arial\, sans-serif\; font-size: 13.2px\; letter-spacing: 0.5px\;"><span style="font-size:14px\;"><span style="font-family:verdana\;"><span style="color:#000000\;">Vestuario para el evento es de negocios. Traje de gala es opcional.</span></span></span></p>\n
LOCATION:The Pinnacle Center 3330 Highland Drive Hudsonville\, MI 49426
UID:e.2018.557
SEQUENCE:3
DTSTAMP:20260425T131553Z
URL:https://members.westmihcc.org/events/details/hispanic-chamber-awards-gala-2017-557
END:VEVENT

END:VCALENDAR
