BEGIN:VCALENDAR
VERSION:2.0
PRODID:-//ChamberMaster//Event Calendar 2.0//EN
METHOD:PUBLISH
X-PUBLISHED-TTL:P3D
REFRESH-INTERVAL:P3D
CALSCALE:GREGORIAN
BEGIN:VEVENT
DTSTART:20170302T223000Z
DTEND:20170303T000000Z
X-MICROSOFT-CDO-ALLDAYEVENT:FALSE
SUMMARY:Hispanic Chamber Monthly Hora Social - February
DESCRIPTION:Come network with Hispanic Chamber staff\, Board of Directors and other members in a relaxed and friendly environment. Enjoy refreshments from our hosts\, cash bar available!\n\n\n\nHere is the run down for the March 2 event at Civic Theatre\n\n \n\n5:30   6:00 Social Time\n\n6:00   Chamber Items if needed\n\n6:15   Civic Theatre to include:\n\n	Welcome\n	A Visit from a member of the Ragtime Cast to talk about her experience\n	Executive and Artistic Director Bruce Tinker will talk about Civic and the show\n	Viewing of a special video on Immigration\n\n6:45   Tour of the Costume Shop\n\n7:15  Event concludes so everyone can find their seats.\n\n7:30 Curtain
X-ALT-DESC;FMTTYPE=text/html:<span style="color: rgb(85\, 85\, 85)\; font-family: &quot\;Helvetica Neue&quot\;\, Helvetica\, Arial\, sans-serif\; font-size: 16px\;">Come network with Hispanic Chamber staff\, Board of Directors and other members in a relaxed and friendly environment. Enjoy refreshments from our hosts\, cash bar available!</span><br />\n<br />\nHere is the run down for the&nbsp\;<span data-term="goog_77410703" style="border-bottom:1px dashed rgb(204\, 204\, 204)\;position:relative\;top:-2px\;z-index:0\;" tabindex="0"><span style="position:relative\;top:2px\;z-index:-1\;">March 2</span></span>&nbsp\;event at Civic Theatre<br />\n&nbsp\;<br />\n<span data-term="goog_77410704" style="border-bottom:1px dashed rgb(204\, 204\, 204)\;position:relative\;top:-2px\;z-index:0\;" tabindex="0"><span style="position:relative\;top:2px\;z-index:-1\;">5:30 &ndash\; 6:00</span></span>&nbsp\;Social Time<br />\n<span data-term="goog_77410705" style="border-bottom:1px dashed rgb(204\, 204\, 204)\;position:relative\;top:-2px\;z-index:0\;" tabindex="0"><span style="position:relative\;top:2px\;z-index:-1\;">6:00</span></span>&nbsp\;&nbsp\;&nbsp\;Chamber Items if needed<br />\n<span data-term="goog_77410706" style="border-bottom:1px dashed rgb(204\, 204\, 204)\;position:relative\;top:-2px\;z-index:0\;" tabindex="0"><span style="position:relative\;top:2px\;z-index:-1\;">6:15</span></span>&nbsp\;&nbsp\; Civic Theatre to include:\n<ul>\n	<li style="color:rgb(34\, 34\, 34)\;font-family:arial\, sans-serif\;font-size:12.8px\;">Welcome</li>\n	<li style="color:rgb(34\, 34\, 34)\;font-family:arial\, sans-serif\;font-size:12.8px\;">A Visit from a member of the Ragtime Cast to talk about her experience</li>\n	<li style="color:rgb(34\, 34\, 34)\;font-family:arial\, sans-serif\;font-size:12.8px\;">Executive and Artistic Director Bruce Tinker will talk about Civic and the show</li>\n	<li style="color:rgb(34\, 34\, 34)\;font-family:arial\, sans-serif\;font-size:12.8px\;">Viewing of a special video on Immigration</li>\n</ul>\n<span data-term="goog_77410707" style="border-bottom:1px dashed rgb(204\, 204\, 204)\;position:relative\;top:-2px\;z-index:0\;" tabindex="0"><span style="position:relative\;top:2px\;z-index:-1\;">6:45</span></span>&nbsp\;&nbsp\; Tour of the Costume Shop<br />\n<span data-term="goog_77410708" style="border-bottom:1px dashed rgb(204\, 204\, 204)\;position:relative\;top:-2px\;z-index:0\;" tabindex="0"><span style="position:relative\;top:2px\;z-index:-1\;">7:15</span></span>&nbsp\; Event concludes so everyone can find their seats.<br />\n<span data-term="goog_77410709" style="border-bottom:1px dashed rgb(204\, 204\, 204)\;position:relative\;top:-2px\;z-index:0\;" tabindex="0"><span style="position:relative\;top:2px\;z-index:-1\;">7:30</span></span>&nbsp\;Curtain
LOCATION:Civic Theatre - 30 Division Ave N\, Grand Rapids\, MI 49503
UID:e.2018.555
SEQUENCE:3
DTSTAMP:20260425T144402Z
URL:https://members.westmihcc.org/events/details/hispanic-chamber-monthly-hora-social-february-555
END:VEVENT

END:VCALENDAR
