BEGIN:VCALENDAR
VERSION:2.0
PRODID:-//ChamberMaster//Event Calendar 2.0//EN
METHOD:PUBLISH
X-PUBLISHED-TTL:P3D
REFRESH-INTERVAL:P3D
CALSCALE:GREGORIAN
BEGIN:VEVENT
DTSTART:20160526T213000Z
DTEND:20160527T000000Z
X-MICROSOFT-CDO-ALLDAYEVENT:FALSE
SUMMARY:Hispanic Chamber Monthly Hora Social - May
DESCRIPTION:Come network with Hispanic Chamber staff\, Board of Directors and other members in a relaxed and friendly environment. Enjoy refreshments from our hosts\, cash bar available!
X-ALT-DESC;FMTTYPE=text/html:Come network with Hispanic Chamber staff\, Board of Directors and other members in a relaxed and friendly environment. Enjoy refreshments from our hosts\, cash bar available!
LOCATION:Different location every month. Interested in hosting us? Contact our office at 616-452-3960 or info@hccwm.org. Location for May: Buffalo Wild Wings 3050 Alpine Ave. Walker\, MI 49544
UID:e.2018.388
SEQUENCE:3
DTSTAMP:20260426T035747Z
URL:https://members.westmihcc.org/events/details/hispanic-chamber-monthly-hora-social-may-05-26-2016-388
END:VEVENT

END:VCALENDAR
