BEGIN:VCALENDAR
VERSION:2.0
PRODID:-//ChamberMaster//Event Calendar 2.0//EN
METHOD:PUBLISH
X-PUBLISHED-TTL:P3D
REFRESH-INTERVAL:P3D
CALSCALE:GREGORIAN
BEGIN:VEVENT
DTSTART:20160922T213000Z
DTEND:20160922T233000Z
X-MICROSOFT-CDO-ALLDAYEVENT:FALSE
SUMMARY:Hispanic Chamber Monthly Hora Social - September
DESCRIPTION:Come network with Hispanic Chamber staff\, Board of Directors and other members in a relaxed and friendly environment. Enjoy refreshments from our hosts\, cash bar available!
X-ALT-DESC;FMTTYPE=text/html:<span style="color: rgb(85\, 85\, 85)\; font-family: &quot\;Helvetica Neue&quot\;\, Helvetica\, Arial\, sans-serif\; font-size: 16px\; line-height: 20.8px\;">Come network with Hispanic Chamber staff\, Board of Directors and other members in a relaxed and friendly environment. Enjoy refreshments from our hosts\, cash bar available!</span>
LOCATION:Different location every month. Interested in hosting us? Contact our office at 616-452-3960 or info@hccwm.org. Location for September SITE:LAB 333 Rumsey Street Sw Grand Rapids MI
UID:e.2018.476
SEQUENCE:3
DTSTAMP:20260425T225754Z
URL:https://members.westmihcc.org/events/details/hispanic-chamber-monthly-hora-social-september-476
END:VEVENT

END:VCALENDAR
