BEGIN:VCALENDAR
VERSION:2.0
PRODID:-//ChamberMaster//Event Calendar 2.0//EN
METHOD:PUBLISH
X-PUBLISHED-TTL:P3D
REFRESH-INTERVAL:P3D
CALSCALE:GREGORIAN
BEGIN:VEVENT
DTSTART:20170208T160000Z
DTEND:20170208T170000Z
X-MICROSOFT-CDO-ALLDAYEVENT:FALSE
SUMMARY:How Business Credit Can Help Your Business Grow
DESCRIPTION:Did you know your business has its own credit reports and scores? Do you know how to leverage yours for better terms with vendors\, increased financing options\, business opportunities and more? Are you familiar with the small business FICO score used to screen many SBA loan applications? If you didn't answer "yes" to all these questions\, join credit expert Gerri Detweiler\, head of market education for Nav\, as she explains how to build and use business credit to your advantage. You'll learn:   Which credit bureaus compile business credit reports and how they are used\,   Business credit scores and the factors that help build strong scores   Key ways business credit is different from personal   Quick steps you can take now to build business credit (even if you have no business credit or poor personal credit) No cost! To register\, go online at https://clients.sbdcmichigan.org/workshop.aspx?ekey=1370006 or call SBDC West Michigan at (616)331-7370.
X-ALT-DESC;FMTTYPE=text/html:Did you know your business has its own credit reports and scores? Do you know how to leverage yours for better terms with vendors\, increased financing options\, business opportunities and more? Are you familiar with the small business FICO score used to screen many SBA loan applications? If you didn&rsquo\;t answer &ldquo\;yes&rdquo\; to all these questions\, join credit expert Gerri Detweiler\, head of market education for Nav\, as she explains how to build and use business credit to your advantage. You&rsquo\;ll learn: &bull\; Which credit bureaus compile business credit reports and how they are used\, &bull\; Business credit scores and the factors that help build strong scores &bull\; Key ways business credit is different from personal &bull\; Quick steps you can take now to build business credit (even if you have no business credit or poor personal credit) No cost! To register\, go online at https://clients.sbdcmichigan.org/workshop.aspx?ekey=1370006 or call SBDC West Michigan at (616)331-7370.
LOCATION:Online (Webinar)
UID:e.2018.536
SEQUENCE:3
DTSTAMP:20260425T160844Z
URL:https://members.westmihcc.org/events/details/how-business-credit-can-help-your-business-grow-536
END:VEVENT

END:VCALENDAR
