BEGIN:VCALENDAR
VERSION:2.0
PRODID:-//ChamberMaster//Event Calendar 2.0//EN
METHOD:PUBLISH
X-PUBLISHED-TTL:P3D
REFRESH-INTERVAL:P3D
CALSCALE:GREGORIAN
BEGIN:VEVENT
DTSTART:20170308T160000Z
DTEND:20170308T170000Z
X-MICROSOFT-CDO-ALLDAYEVENT:FALSE
SUMMARY:How Business Owners Can Get and Keep Strong Personal Credit Scores
DESCRIPTION:When you're a business owner\, strong personal credit scores can be an asset by helping you qualify for a business credit card\, an SBA loan or other types of funding that take the owner's personal credit into account. But if you're not careful\, your business can hurt your credit scores. Nav Head of Market Education Gerri Detweiler has been answering individual's credit questions for more than twenty years. No cost. To register\, please go to https://clients.sbdcmichigan.org/workshop.aspx?ekey=1370007 or call our office at 616-331-7370.
X-ALT-DESC;FMTTYPE=text/html:When you&rsquo\;re a business owner\, strong personal credit scores can be an asset by helping you qualify for a business credit card\, an SBA loan or other types of funding that take the owner&rsquo\;s personal credit into account. But if you&rsquo\;re not careful\, your business can hurt your credit scores. Nav Head of Market Education Gerri Detweiler has been answering individual&rsquo\;s credit questions for more than twenty years. No cost. To register\, please go to https://clients.sbdcmichigan.org/workshop.aspx?ekey=1370007 or call our office at 616-331-7370.
LOCATION:Online (webinar)
UID:e.2018.545
SEQUENCE:3
DTSTAMP:20260425T144236Z
URL:https://members.westmihcc.org/events/details/how-business-owners-can-get-and-keep-strong-personal-credit-scores-545
END:VEVENT

END:VCALENDAR
