BEGIN:VCALENDAR
VERSION:2.0
PRODID:-//ChamberMaster//Event Calendar 2.0//EN
METHOD:PUBLISH
X-PUBLISHED-TTL:P3D
REFRESH-INTERVAL:P3D
CALSCALE:GREGORIAN
BEGIN:VEVENT
DTSTART:20170503T120000Z
DTEND:20170503T170000Z
X-MICROSOFT-CDO-ALLDAYEVENT:FALSE
SUMMARY:How to Buy or Sell a Business
DESCRIPTION:The Michigan Small Business Development Center has assembled an experienced team of experts to discuss the many aspects of purchasing or selling a business. Who Should Attend this Conference? Those who are looking to purchase or sell a business\, as well as accountants\, attorneys\, business brokers\, financial planners\, CEOs and CFOs. Cost: $50.00 To register\, please go to https://clients.sbdcmichigan.org/workshop.aspx?ekey=74370001 or call our office at 616-331-7370.
X-ALT-DESC;FMTTYPE=text/html:The Michigan Small Business Development Center has assembled an experienced team of experts to discuss the many aspects of purchasing or selling a business. Who Should Attend this Conference? Those who are looking to purchase or sell a business\, as well as accountants\, attorneys\, business brokers\, financial planners\, CEOs and CFOs. Cost: $50.00 To register\, please go to https://clients.sbdcmichigan.org/workshop.aspx?ekey=74370001 or call our office at 616-331-7370.
LOCATION:Double Tree Hotel 650 East 24th Street Holland\, MI 49423
UID:e.2018.580
SEQUENCE:3
DTSTAMP:20260425T120634Z
URL:https://members.westmihcc.org/events/details/how-to-buy-or-sell-a-business-05-03-2017-580
END:VEVENT

END:VCALENDAR
