BEGIN:VCALENDAR
VERSION:2.0
PRODID:-//ChamberMaster//Event Calendar 2.0//EN
METHOD:PUBLISH
X-PUBLISHED-TTL:P3D
REFRESH-INTERVAL:P3D
CALSCALE:GREGORIAN
BEGIN:VEVENT
DTSTART:20161110T130000Z
DTEND:20161110T170000Z
X-MICROSOFT-CDO-ALLDAYEVENT:FALSE
SUMMARY:How to Buy or Sell a Business
DESCRIPTION:The Michigan Small Business Development Center has assembled an experienced team of experts to discuss the many aspects of purchasing or selling a business. Who Should Attend this Conference? Those who are looking to purchase or sell a business\, as well as accountants\, attorneys\, business brokers\, financial planners\, CEOs and CFOs. The conference will focus on questions such as: Buyers 1. How do I find a business to purchase? 2. How do I determine the purchase price to be paid? 3. How much is my business worth? 4. How do I finance the purchase? 5. How do I investigate the business once I find a target? Sellers 1. How much is my business worth? 2. How do I find a buyer for my business? 3. Should I finance the sale of my business? 4. What do I need to do to get my business in shape to sell? Buyers and sellers will separate into individual sessions targeting both tracks [sellers and buyers]\, followed by a session with buyers and sellers participating with a panel of experienced professionals. Focused sessions will cover specific challenges and opportunities. 8:00 AM to 8:30 AM   Registration\, breakfast\, and networking 8:30 AM to 8:45 AM   Opening Remarks 8:45 AM to 9:45 AM   Breakout Session #1 10:00 AM to 11:00 AM   Breakout Session #2 11:00 AM to 12:00 PM   Panel Discussion
X-ALT-DESC;FMTTYPE=text/html:The Michigan Small Business Development Center has assembled an experienced team of experts to discuss the many aspects of purchasing or selling a business. Who Should Attend this Conference? Those who are looking to purchase or sell a business\, as well as accountants\, attorneys\, business brokers\, financial planners\, CEOs and CFOs. The conference will focus on questions such as: Buyers 1. How do I find a business to purchase? 2. How do I determine the purchase price to be paid? 3. How much is my business worth? 4. How do I finance the purchase? 5. How do I investigate the business once I find a target? Sellers 1. How much is my business worth? 2. How do I find a buyer for my business? 3. Should I finance the sale of my business? 4. What do I need to do to get my business in shape to sell? Buyers and sellers will separate into individual sessions targeting both tracks [sellers and buyers]\, followed by a session with buyers and sellers participating with a panel of experienced professionals. Focused sessions will cover specific challenges and opportunities. 8:00 AM to 8:30 AM &ndash\; Registration\, breakfast\, and networking 8:30 AM to 8:45 AM &ndash\; Opening Remarks 8:45 AM to 9:45 AM &ndash\; Breakout Session #1 10:00 AM to 11:00 AM &ndash\; Breakout Session #2 11:00 AM to 12:00 PM &ndash\; Panel Discussion
LOCATION:Muskegon Innovation Hub 200 Viridian Drive Muskegon\, MI 49440
UID:e.2018.426
SEQUENCE:3
DTSTAMP:20260425T200736Z
URL:https://members.westmihcc.org/events/details/how-to-buy-or-sell-a-business-11-10-2016-426
END:VEVENT

END:VCALENDAR
