BEGIN:VCALENDAR
VERSION:2.0
PRODID:-//ChamberMaster//Event Calendar 2.0//EN
METHOD:PUBLISH
X-PUBLISHED-TTL:P3D
REFRESH-INTERVAL:P3D
CALSCALE:GREGORIAN
BEGIN:VEVENT
DTSTART:20170131T130000Z
DTEND:20170131T170000Z
X-MICROSOFT-CDO-ALLDAYEVENT:FALSE
SUMMARY:How to Buy or Sell a Business
DESCRIPTION:The Michigan Small Business Development Center has assembled an experienced team of experts to discuss the many aspects of purchasing or selling a business. Buyers and sellers will separate into individual sessions targeting both tracks [sellers and buyers]\, followed by a session with buyers and sellers participating with a panel of experienced professionals. Focused sessions will cover specific challenges and opportunities. Cost: $25 Presented by SBDC West Michigan. Veterans' registration is free with proof of military service. Please contact sbdc@gvsu.edu for assistance and registration. To register\, go online at https://clients.sbdcmichigan.org/workshop.aspx?ekey=72370001 or call SBDC West Michigan at (616)331-7370.
X-ALT-DESC;FMTTYPE=text/html:The Michigan Small Business Development Center has assembled an experienced team of experts to discuss the many aspects of purchasing or selling a business. Buyers and sellers will separate into individual sessions targeting both tracks [sellers and buyers]\, followed by a session with buyers and sellers participating with a panel of experienced professionals. Focused sessions will cover specific challenges and opportunities. Cost: $25 Presented by SBDC West Michigan. Veterans&#39\; registration is free with proof of military service. Please contact sbdc@gvsu.edu for assistance and registration. To register\, go online at https://clients.sbdcmichigan.org/workshop.aspx?ekey=72370001 or call SBDC West Michigan at (616)331-7370.
LOCATION:Muskegon Innovation Hub 200 Viridian Drive Muskegon\, MI 49440
UID:e.2018.530
SEQUENCE:3
DTSTAMP:20260425T171806Z
URL:https://members.westmihcc.org/events/details/how-to-buy-or-sell-a-business-530
END:VEVENT

END:VCALENDAR
