BEGIN:VCALENDAR
VERSION:2.0
PRODID:-//ChamberMaster//Event Calendar 2.0//EN
METHOD:PUBLISH
X-PUBLISHED-TTL:P3D
REFRESH-INTERVAL:P3D
CALSCALE:GREGORIAN
BEGIN:VEVENT
DTSTART:20190613T130000Z
DTEND:20190613T183000Z
X-MICROSOFT-CDO-ALLDAYEVENT:FALSE
SUMMARY:How to Buy or Sell a Business Workshop
DESCRIPTION:Join us as MI-SBDC presents the How to Buy or Sell a Business Workshop\, where consultants and industry experts share tips\, tools\, and tactics to help ensure the success of your transaction and the transition process. Together\, buyers and sellers will discover:   First steps in determining whether to buy or sell a business   How to maximize the value of your business   How to market your business and how to find a business for sale   How to form a Transition Team of experts to help you buy or sell a business   How to create a Transition Plan to keep you on track for success   The basics of valuation\, due diligence\, brokers\, and financing   Implications for tax\, retirement\, and estate planning   Keys to successfully transitioning a business to new ownership   Post-acquisition planning\, change management\, and company culture The workshop will conclude with a Panel Discussion of industry experts and business buyers and sellers who will share their knowledge and experiences. Lunch and resource materials are included.
X-ALT-DESC;FMTTYPE=text/html:Join us as MI-SBDC presents the How to Buy or Sell a Business Workshop\, where consultants and industry experts share tips\, tools\, and tactics to help ensure the success of your transaction and the transition process. Together\, buyers and sellers will discover: &bull\; First steps in determining whether to buy or sell a business &bull\; How to maximize the value of your business &bull\; How to market your business and how to find a business for sale &bull\; How to form a Transition Team of experts to help you buy or sell a business &bull\; How to create a Transition Plan to keep you on track for success &bull\; The basics of valuation\, due diligence\, brokers\, and financing &bull\; Implications for tax\, retirement\, and estate planning &bull\; Keys to successfully transitioning a business to new ownership &bull\; Post-acquisition planning\, change management\, and company culture The workshop will conclude with a Panel Discussion of industry experts and business buyers and sellers who will share their knowledge and experiences. Lunch and resource materials are included.
LOCATION:GVSU L William Seidman Center Forum 1008 50 Front Ave SW Grand Rapids\, MI 49504
UID:e.2018.1208
SEQUENCE:3
DTSTAMP:20260420T033118Z
URL:https://members.westmihcc.org/events/details/how-to-buy-or-sell-a-business-workshop-1208
END:VEVENT

END:VCALENDAR
