BEGIN:VCALENDAR
VERSION:2.0
PRODID:-//ChamberMaster//Event Calendar 2.0//EN
METHOD:PUBLISH
X-PUBLISHED-TTL:P3D
REFRESH-INTERVAL:P3D
CALSCALE:GREGORIAN
BEGIN:VEVENT
DTSTART:20260513T140000Z
DTEND:20260513T150000Z
X-MICROSOFT-CDO-ALLDAYEVENT:FALSE
SUMMARY:HR Toolkit Informational Webinar
DESCRIPTION:Join us online to learn more about the HR Toolkit offered in partnership with Cooper People Group. \n\n \nAcomp  anos en l nea para aprender sobre el Kit de Recursos Humanos. Este recurso se ofrece junto con Cooper People Group.
X-ALT-DESC;FMTTYPE=text/html:<span style="font-size:14px\;"><span style="font-family:arial\;">Join us online to learn more about the HR Toolkit offered in partnership with Cooper People Group.</span>&nbsp\;</span><br />\n&nbsp\;\n<div style="color: rgb(0\, 0\, 0)\; font-family: &quot\;Segoe UI&quot\;\; font-size: 14px\; line-height: 20px\;"><span style="font-size:14px\;"><span style="font-family:arial\;">Acomp&aacute\;&ntilde\;anos en l&iacute\;nea para aprender sobre el Kit de Recursos Humanos. Este recurso se ofrece junto con Cooper People Group.</span></span></div>\n
LOCATION:This information session will be offered online\, and the meeting link will be sent to you one day before the session. Esta sesi n ser en l nea. Te enviaremos el enlace de la reuni n por correo un d a antes de la sesi n.
UID:e.2018.4074
SEQUENCE:3
DTSTAMP:20260424T160612Z
URL:https://members.westmihcc.org/events/details/hr-toolkit-informational-webinar-4074
END:VEVENT

END:VCALENDAR
