BEGIN:VCALENDAR
VERSION:2.0
PRODID:-//ChamberMaster//Event Calendar 2.0//EN
METHOD:PUBLISH
X-PUBLISHED-TTL:P3D
REFRESH-INTERVAL:P3D
CALSCALE:GREGORIAN
BEGIN:VEVENT
DTSTART:20161020T230000Z
DTEND:20161021T020000Z
X-MICROSOFT-CDO-ALLDAYEVENT:FALSE
SUMMARY:http://www.festivalofpraisetour.com/
DESCRIPTION:Festival of Praise\, featuring Fred Hammond\, Hezekiah Walker\, Israel Houghton\, Karen Clark Sheard\, Regina Belle\, Casey J and Earthquake\, is coming to DeVos Performance Hall on Thursday\, October 20\, 2016 at 7:00 PM. Line up subject to change. Tickets go on sale Friday\, June 17 at 10 AM. Tickets may be purchased at the DeVos Place convention center and Van Andel Arena box offices\, Ticketmaster ticket centers\, charge by phone at 1-800-745-3000 or on-line at Ticketmaster.com. Groups of 15 or more receive $5 off and receive 2 free tickets for every 15 purchased. For group tickets\, call 616-742-6185\, e-mail GroupSales@smggr.com or click here to order on-line.
X-ALT-DESC;FMTTYPE=text/html:Festival of Praise\, featuring Fred Hammond\, Hezekiah Walker\, Israel Houghton\, Karen Clark Sheard\, Regina Belle\, Casey J and Earthquake\, is coming to DeVos Performance Hall on Thursday\, October 20\, 2016 at 7:00 PM. Line up subject to change. Tickets go on sale Friday\, June 17 at 10 AM. Tickets may be purchased at the DeVos Place convention center and Van Andel Arena box offices\, Ticketmaster ticket centers\, charge by phone at 1-800-745-3000 or on-line at Ticketmaster.com. Groups of 15 or more receive $5 off and receive 2 free tickets for every 15 purchased. For group tickets\, call 616-742-6185\, e-mail GroupSales@smggr.com or click here to order on-line.
LOCATION:DeVos Performance Hall 303 Monroe Ave NW Grand Rapids\, MI 49503
UID:e.2018.398
SEQUENCE:3
DTSTAMP:20260425T213227Z
URL:https://members.westmihcc.org/events/details/http-www-festivalofpraisetour-com-10-20-2016-398
END:VEVENT

END:VCALENDAR
