BEGIN:VCALENDAR
VERSION:2.0
PRODID:-//ChamberMaster//Event Calendar 2.0//EN
METHOD:PUBLISH
X-PUBLISHED-TTL:P3D
REFRESH-INTERVAL:P3D
CALSCALE:GREGORIAN
BEGIN:VEVENT
DTSTART:20180729T000000Z
DTEND:20180729T020000Z
X-MICROSOFT-CDO-ALLDAYEVENT:FALSE
SUMMARY:ICE CUBE FEATURING N.W.A.
DESCRIPTION:For the first time ever in Grand Rapids\, Ice Cube featuring N.W.A is coming to Van Andel Arena. Special Guests are Ice T\, The Dogg Pound and AMG. Witness history with Ice Cube's appearance in Grand Rapids on Saturday\, July 28 at 8 PM Actor\, writer\, producer\, director\, rapper\, father   reigning renaissance king could be a good term to describe the one and only Ice Cube. Coming of age in 1980s Los Angeles\, Cube experienced the roiling stew of street knowledge\, sports fanaticism\, and social injustice in a city at the forefront of hip-hop's expansion from local sound to global phenomenon. Having sold over 10 million albums as a solo artist\, Cube is now back working on his next album\, Everythangs Corrupt. With multiple generations of fans\, Ice Cube's commitment to greatness has put him at the forefront of hip-hop's expansion from local sound to global phenomenon and made him one of Hollywood's most bankable\, likeable names.
X-ALT-DESC;FMTTYPE=text/html:For the first time ever in Grand Rapids\, Ice Cube featuring N.W.A is coming to Van Andel Arena. Special Guests are Ice T\, The Dogg Pound and AMG. Witness history with Ice Cube&#39\;s appearance in Grand Rapids on Saturday\, July 28 at 8 PM Actor\, writer\, producer\, director\, rapper\, father &ndash\; reigning renaissance king could be a good term to describe the one and only Ice Cube. Coming of age in 1980s Los Angeles\, Cube experienced the roiling stew of street knowledge\, sports fanaticism\, and social injustice in a city at the forefront of hip-hop&rsquo\;s expansion from local sound to global phenomenon. Having sold over 10 million albums as a solo artist\, Cube is now back working on his next album\, Everythangs Corrupt. With multiple generations of fans\, Ice Cube&rsquo\;s commitment to greatness has put him at the forefront of hip-hop&rsquo\;s expansion from local sound to global phenomenon and made him one of Hollywood&rsquo\;s most bankable\, likeable names.
LOCATION:Van Andel Arena
UID:e.2018.860
SEQUENCE:3
DTSTAMP:20260422T155901Z
URL:https://members.westmihcc.org/events/details/ice-cube-featuring-n-w-a-860
END:VEVENT

END:VCALENDAR
