BEGIN:VCALENDAR
VERSION:2.0
PRODID:-//ChamberMaster//Event Calendar 2.0//EN
METHOD:PUBLISH
X-PUBLISHED-TTL:P3D
REFRESH-INTERVAL:P3D
CALSCALE:GREGORIAN
BEGIN:VEVENT
DTSTART:20170910T230000Z
DTEND:20170911T030000Z
X-MICROSOFT-CDO-ALLDAYEVENT:FALSE
SUMMARY:Il Divo
DESCRIPTION:Grand Rapids  The multi-platinum group announces their next great tour\, A NIGHT WITH THE BEST OF IL DIVO. Carlos Marin\, Urs Buhler\, David Miller and S bastien Izambard will embark on a North and South American tour on August 30\, 2017 and will make stops in nearly 20 cities including Grand Rapids on Sunday\, September 10\, 2017 at 7:00 PM in DeVos Performance Hall. Tickets go on sale to the general public beginning Friday\, June 2 at 10:00 AM. Ticket prices are $49.50\, $89.50\, and $129.50\, and tickets will be available at the DeVos Place  and Van Andel Arena  box offices\, online at Ticketmaster.com\, and charge by phone at 1-800-745-3000. A purchase limit of eight (8) tickets will apply to every order and prices are subject to change. VIP offers are available via Ticketmaster. "We're so thrilled to have the opportunity to bring our best hits on tour throughout the Americas\," says David Miller. "We are bringing it back to the basics and fueling our show with the songs our fans love! It's going to be a night to remember and we can't wait to embark on A Night with the Best of Il Divo tour."
X-ALT-DESC;FMTTYPE=text/html:Grand Rapids&mdash\; The multi-platinum group announces their next great tour\, A NIGHT WITH THE BEST OF IL DIVO. Carlos Marin\, Urs Buhler\, David Miller and S&eacute\;bastien Izambard will embark on a North and South American tour on August 30\, 2017 and will make stops in nearly 20 cities including Grand Rapids on Sunday\, September 10\, 2017 at 7:00 PM in DeVos Performance Hall. Tickets go on sale to the general public beginning Friday\, June 2 at 10:00 AM. Ticket prices are $49.50\, $89.50\, and $129.50\, and tickets will be available at the DeVos Place&reg\; and Van Andel Arena&reg\; box offices\, online at Ticketmaster.com\, and charge by phone at 1-800-745-3000. A purchase limit of eight (8) tickets will apply to every order and prices are subject to change. VIP offers are available via Ticketmaster. &ldquo\;We&rsquo\;re so thrilled to have the opportunity to bring our best hits on tour throughout the Americas\,&rdquo\; says David Miller. &ldquo\;We are bringing it back to the basics and fueling our show with the songs our fans love! It&rsquo\;s going to be a night to remember and we can&rsquo\;t wait to embark on A Night with the Best of Il Divo tour.&rdquo\;
LOCATION:DeVos Performance Hall
UID:e.2018.617
SEQUENCE:3
DTSTAMP:20260423T075425Z
URL:https://members.westmihcc.org/events/details/il-divo-617
END:VEVENT

END:VCALENDAR
