BEGIN:VCALENDAR
VERSION:2.0
PRODID:-//ChamberMaster//Event Calendar 2.0//EN
METHOD:PUBLISH
X-PUBLISHED-TTL:P3D
REFRESH-INTERVAL:P3D
CALSCALE:GREGORIAN
BEGIN:VEVENT
DTSTART:20190401T000000Z
DTEND:20190401T023000Z
X-MICROSOFT-CDO-ALLDAYEVENT:FALSE
SUMMARY:IL Divo: Timeless Tour
DESCRIPTION:Following an incredible sold-out run across Europe\, Asia\, Africa\, Australia and Mexico this summer and a current fall tour in the U.S. and Canada\, Il Divo announced they will return to North America in 2019 for an all new leg of their Timeless Tour. The second leg of the tour will make 19 stops including one in Grand Rapids on March 31st at Van Andel Arena. Fans can expect astonishing performances from Il Divo's most recent album Timeless as well as hits from Il Divo's vast catalog of songs\, paired with their breathtaking production including dancers\, acrobats and much more. Discovered by Simon Cowell 15 years ago\, Il Divo has evolved into the pre-eminent tenor powerhouse vocal group with four sold-out world tours to date\, over 30 million albums sold\, 160 gold and platinum albums in 33 countries to their credit and were the first Classical Crossover artists to have an album debut at #1 on Billboards Top 200 chart.
X-ALT-DESC;FMTTYPE=text/html:Following an incredible sold-out run across Europe\, Asia\, Africa\, Australia and Mexico this summer and a current fall tour in the U.S. and Canada\, Il Divo announced they will return to North America in 2019 for an all new leg of their Timeless Tour. The second leg of the tour will make 19 stops including one in Grand Rapids on March 31st at Van Andel Arena. Fans can expect astonishing performances from Il Divo&#39\;s most recent album Timeless as well as hits from Il Divo&#39\;s vast catalog of songs\, paired with their breathtaking production including dancers\, acrobats and much more. Discovered by Simon Cowell 15 years ago\, Il Divo has evolved into the pre-eminent tenor powerhouse vocal group with four sold-out world tours to date\, over 30 million albums sold\, 160 gold and platinum albums in 33 countries to their credit and were the first Classical Crossover artists to have an album debut at #1 on Billboards Top 200 chart.
LOCATION:DeVos Performance Hall
UID:e.2018.999
SEQUENCE:3
DTSTAMP:20260420T062504Z
URL:https://members.westmihcc.org/events/details/il-divo-timeless-tour-999
END:VEVENT

END:VCALENDAR
