BEGIN:VCALENDAR
VERSION:2.0
PRODID:-//ChamberMaster//Event Calendar 2.0//EN
METHOD:PUBLISH
X-PUBLISHED-TTL:P3D
REFRESH-INTERVAL:P3D
CALSCALE:GREGORIAN
BEGIN:VEVENT
DTSTART:20180720T233000Z
DTEND:20180722T013000Z
X-MICROSOFT-CDO-ALLDAYEVENT:FALSE
SUMMARY:In The Heights - Musical
DESCRIPTION:From the creator of the world-shattering musical HAMILTON comes Lin-Manuel Miranda's Tony-award winning musical love letter\, IN THE HEIGHTS\, which tells the universal story of a vibrant community in New York's Washington Heights neighborhood - a place where the coffee from the corner bodega is light and sweet\, the windows are always open and the breeze carries the rhythm of three generations of music. It's a community on the brink of change\, full of hopes\, dreams and pressures\, where the biggest struggles can be deciding which traditions you take with you\, and which ones you leave behind. IN THE HEIGHTS Music and Lyrics by Lin-Manuel Miranda Book by Quiara Alegria Hudes Conceived by Lin-Manuel Miranda
X-ALT-DESC;FMTTYPE=text/html:From the creator of the world-shattering musical HAMILTON comes Lin-Manuel Miranda&rsquo\;s Tony-award winning musical love letter\, IN THE HEIGHTS\, which tells the universal story of a vibrant community in New York&rsquo\;s Washington Heights neighborhood - a place where the coffee from the corner bodega is light and sweet\, the windows are always open and the breeze carries the rhythm of three generations of music. It&rsquo\;s a community on the brink of change\, full of hopes\, dreams and pressures\, where the biggest struggles can be deciding which traditions you take with you\, and which ones you leave behind. IN THE HEIGHTS Music and Lyrics by Lin-Manuel Miranda Book by Quiara Alegria Hudes Conceived by Lin-Manuel Miranda
LOCATION:Shadowland Pavilion\, Silver Beach County Park\, 101 Broad Street\, St. Joseph\, MI 49085
UID:e.2018.808
SEQUENCE:3
DTSTAMP:20260422T155947Z
URL:https://members.westmihcc.org/events/details/in-the-heights-musical-808
END:VEVENT

END:VCALENDAR
