BEGIN:VCALENDAR
VERSION:2.0
PRODID:-//ChamberMaster//Event Calendar 2.0//EN
METHOD:PUBLISH
X-PUBLISHED-TTL:P3D
REFRESH-INTERVAL:P3D
CALSCALE:GREGORIAN
BEGIN:VEVENT
DTSTART:20180830T120000Z
DTEND:20180830T230000Z
X-MICROSOFT-CDO-ALLDAYEVENT:FALSE
SUMMARY:Income Tax Course Registration Fairs
DESCRIPTION:Like Finances and flexable hours? WE ARE HIRING!!!\n\n\n\n\n\nWe are currently enrolling individuals in our income tax course. Classes start on September 5th and are 3 days a week\, 3 hours a day for a total of 60 hours. Classes are in  English with Spanish translation as needed. Class is $149 and Military/Bilingual candidates receive free tuition. Additionally anyone who signs up at the registration fair will receive $50 off enrollment.\n\n\n\nFor more information call Shari Garcia @ 616-301-4754\n\n\n\nRegistration Fairs\n\n\n\n\n\nHR Block in Rogers Plaza\n\n988 28th st SW\n\nWyoming MI 49509\n\n10am-7pm\n\n8/30/2018\n\n\n\n\n\n\n\nH&R Block in Walmart Plaza\n\n2279 n Park Dr\n\nHolland MI 49424\n\n8am-1pm\n\n8/29/2018
X-ALT-DESC;FMTTYPE=text/html:Like Finances and flexable hours? WE ARE HIRING!!!<br />\n<br />\n<br />\nWe are currently enrolling&nbsp\;individuals in our income tax course. Classes start on September 5th and are 3 days a week\, 3 hours a day for a total of 60 hours. Classes are in&nbsp\; English with Spanish translation as needed. Class is $149 and Military/Bilingual candidates receive free tuition. Additionally anyone who signs up at the registration fair will receive $50 off enrollment.<br />\n<br />\n<strong>For more information call Shari Garcia @ 616-301-4754</strong><br />\n<br />\nRegistration Fairs<br />\n<br />\n<br />\nHR Block in Rogers Plaza<br />\n988 28th st SW<br />\nWyoming MI 49509<br />\n10am-7pm<br />\n<strong>8/30/2018</strong><br />\n<br />\n<br />\n<br />\nH&amp\;R Block in Walmart Plaza<br />\n2279 n Park Dr<br />\nHolland MI 49424<br />\n8am-1pm<br />\n<strong>8/29/2018</strong><br />\n&nbsp\;
LOCATION:
UID:e.2018.937
SEQUENCE:3
DTSTAMP:20260422T145345Z
URL:https://members.westmihcc.org/events/details/income-tax-course-registration-fairs-937
END:VEVENT

END:VCALENDAR
