BEGIN:VCALENDAR
VERSION:2.0
PRODID:-//ChamberMaster//Event Calendar 2.0//EN
METHOD:PUBLISH
X-PUBLISHED-TTL:P3D
REFRESH-INTERVAL:P3D
CALSCALE:GREGORIAN
BEGIN:VEVENT
DTSTART:20181129T223000Z
DTEND:20181130T003000Z
X-MICROSOFT-CDO-ALLDAYEVENT:FALSE
SUMMARY:Inforum West Michigan Capstone Event
DESCRIPTION:Inforum West Michigan Capstone Event featuring founder of the #MeToo movement\, Tarana Burke. Tarana Burke\, founder of the #MeToo movement and part of the "Silence Breakers" who were collectively named Time magazine's Person of the Year for 2017\, will keynote Inforum West Michigan's Capstone event on Thursday\, November 29\, 2018. The Capstone dinner serves as an annual celebration to end the year\, and Inforum West Michigan believes Tarana Burke's keynote will be the culmination of a year of programming that has inspired\, educated\, and encouraged women to support one another.
X-ALT-DESC;FMTTYPE=text/html:Inforum West Michigan Capstone Event featuring founder of the #MeToo movement\, Tarana Burke. Tarana Burke\, founder of the #MeToo movement and part of the &ldquo\;Silence Breakers&rdquo\; who were collectively named Time magazine&rsquo\;s Person of the Year for 2017\, will keynote Inforum West Michigan&rsquo\;s Capstone event on Thursday\, November 29\, 2018. The Capstone dinner serves as an annual celebration to end the year\, and Inforum West Michigan believes Tarana Burke&rsquo\;s keynote will be the culmination of a year of programming that has inspired\, educated\, and encouraged women to support one another.
LOCATION:JW Marriott Grand Rapids
UID:e.2018.910
SEQUENCE:3
DTSTAMP:20260422T110713Z
URL:https://members.westmihcc.org/events/details/inforum-west-michigan-capstone-event-910
END:VEVENT

END:VCALENDAR
